BEGIN:VCALENDAR
VERSION:2.0
PRODID:-//Sabre//Sabre VObject 4.5.8//EN
CALSCALE:GREGORIAN
LAST-MODIFIED:20241031T103205Z
BEGIN:VTIMEZONE
TZID:America/New_York
X-MICROSOFT-CDO-TZID:10
BEGIN:STANDARD
DTSTART:20231105T060000
TZOFFSETFROM:-0400
TZOFFSETTO:-0500
TZNAME:EST
END:STANDARD
BEGIN:STANDARD
DTSTART:20241103T060000
TZOFFSETFROM:-0400
TZOFFSETTO:-0500
TZNAME:EST
END:STANDARD
BEGIN:DAYLIGHT
DTSTART:20240310T070000
TZOFFSETFROM:-0500
TZOFFSETTO:-0400
TZNAME:EDT
END:DAYLIGHT
END:VTIMEZONE
BEGIN:VEVENT
UID:6876f2d5-b4cb-47b6-8638-dfda576eb220
DTSTAMP:20241031T103205Z
SUMMARY:ACT-Rules Joint Task Force and Community Group Teleconference
DTSTART;TZID=America/New_York:20240613T100000
DTEND;TZID=America/New_York:20240613T110000
DESCRIPTION:https://www.w3.org/events/meetings/6876f2d5-b4cb-47b6-8638-dfda
 576eb220/\n\nACT Rules Task Force and Community Group biweekly meeting\n\n
 Agenda\n\n* ACT Stand up\n* TPAC\n* [Call for review](https://github.com/a
 ct-rules/act-rules.github.io/issues/461)\n* [Assigned issues](https://gith
 ub.com/act-rules/act-rules.github.io/issues?page=1&q=is%3Aissue+is%3Aopen)
 \n* [Update from Manual Test Rules subgroup](https://github.com/act-rules/
 act-rules.github.io/issues/1952)\n* [Updating the Transcript Rules](https:
 //github.com/act-rules/act-rules.github.io/pull/2064)\n* [Boundary/Verbose
  Examples](https://github.com/act-rules/act-rules.github.io/pull/2185)\n* 
 [Target size minimum](https://github.com/act-rules/act-rules.github.io/pul
 l/2167)
STATUS:CONFIRMED
CREATED:20220729T082604Z
LAST-MODIFIED:20241031T103205Z
SEQUENCE:8
ORGANIZER;CN=W3C Calendar;PARTSTAT=ACCEPTED;ROLE=NON-PARTICIPANT:mailto:nor
 eply@w3.org
ATTENDEE;CUTYPE=GROUP;ROLE=OPT-PARTICIPANT;RSVP=FALSE;CN=Accessibility Conf
 ormance Testing (ACT) Task Force:mailto:public-wcag-act@w3.org
ATTENDEE;CUTYPE=GROUP;ROLE=OPT-PARTICIPANT;RSVP=FALSE;CN=ACT Rules Communit
 y Group:mailto:public-act-r@w3.org
RRULE:FREQ=MONTHLY;UNTIL=20240710T140000Z;INTERVAL=1;BYDAY=TH;BYSETPOS=2;WK
 ST=MO
END:VEVENT
END:VCALENDAR
