BEGIN:VCALENDAR
VERSION:2.0
PRODID:-//Sabre//Sabre VObject 4.5.8//EN
CALSCALE:GREGORIAN
LAST-MODIFIED:20240314T145301Z
BEGIN:VTIMEZONE
TZID:Europe/Berlin
X-MICROSOFT-CDO-TZID:4
BEGIN:DAYLIGHT
DTSTART:20230326T010000
TZOFFSETFROM:+0100
TZOFFSETTO:+0200
TZNAME:CEST
END:DAYLIGHT
BEGIN:DAYLIGHT
DTSTART:20240331T010000
TZOFFSETFROM:+0100
TZOFFSETTO:+0200
TZNAME:CEST
END:DAYLIGHT
BEGIN:STANDARD
DTSTART:20231029T010000
TZOFFSETFROM:+0200
TZOFFSETTO:+0100
TZNAME:CET
END:STANDARD
END:VTIMEZONE
BEGIN:VEVENT
UID:66be002d-864b-4a49-a4d4-4d231b4c99bf
DTSTAMP:20240314T145301Z
SUMMARY:WoT CG Meetup 15: Beyond Local Connectivity: Bridging Web of Things
  and Matter - Deutsche Telekom
DTSTART;TZID=Europe/Berlin:20240314T160000
DTEND;TZID=Europe/Berlin:20240314T173000
DESCRIPTION:https://www.w3.org/events/meetings/66be002d-864b-4a49-a4d4-4d23
 1b4c99bf/\n\nEdit: Change from 16th to 15th meetup\n\nIn our next meetup\,
  we welcome [Till Langen](https://www.linkedin.com/in/till-langen-9755a48b
 /) from Deutsche Telekom to talk about Matter.\n\nMatter aims for a standa
 rdized Smart Home System\, in a local domain. Behind Matter is a merger of
  the leading hardware and software companies\, which is leveraging the dis
 tribution. For the scope of a seamless integration in the World Wide Web a
  mapping from the data model to Web of Things is necessary. \n\nThis meetu
 p gives an introduction in the Matter data model and a first concept of th
 e abstraction to Web of Things. The concept will look at the function of M
 atter to bridge devices\, compose endpoints and the access control definit
 ion.\n\nAgenda\n\n- News from the CG\n- Introduction of the Speakers\n- Pr
 esentation\n- Q&A\n- Discussion session\n\nJoining Instructions: https://t
 eams.microsoft.com/l/meetup-join/19%3ameeting_ZmJiYmUwNzctM2Q0NS00MGEwLThj
 ZGUtNDBiZGEyZWRkMjVh%40thread.v2/0?context=%7b%22Tid%22%3a%2238ae3bcd-9579
 -4fd4-adda-b42e1495d55a%22%2c%22Oid%22%3a%22d4a09f25-e37d-4f6d-95cf-a8c302
 d7e2d2%22%7d\n\nJoining Instructions\n\nIf the direct link does not work:\
 n\nGo to: https://www.microsoft.com/en-us/microsoft-teams/join-a-meeting\n
 Meeting ID: 353 274 988 470\nPasscode: pUrg2Q\n\nFull Link: https://teams.
 microsoft.com/l/meetup-join/19%3ameeting_ZmJiYmUwNzctM2Q0NS00MGEwLThjZGUtN
 DBiZGEyZWRkMjVh%40thread.v2/0?context=%7b%22Tid%22%3a%2238ae3bcd-9579-4fd4
 -adda-b42e1495d55a%22%2c%22Oid%22%3a%22d4a09f25-e37d-4f6d-95cf-a8c302d7e2d
 2%22%7d
STATUS:CONFIRMED
CREATED:20240215T064151Z
LAST-MODIFIED:20240314T145301Z
SEQUENCE:0
ORGANIZER;CN=W3C Calendar;PARTSTAT=ACCEPTED;ROLE=NON-PARTICIPANT:mailto:nor
 eply@w3.org
ATTENDEE;CUTYPE=GROUP;ROLE=OPT-PARTICIPANT;RSVP=FALSE;CN=Web of Things Comm
 unity Group:mailto:public-web-of-things@w3.org
ATTENDEE;CN=Jochen Hiller:mailto:jo.hiller@gmail.com
ATTENDEE;CN=Thomas Jäckle:mailto:thjaeckle@gmail.com
ATTENDEE;CN=Farshid Tavakolizadeh:mailto:farshid.tavakolizadeh@canonical.co
 m
END:VEVENT
END:VCALENDAR
