BEGIN:VCALENDAR
VERSION:2.0
PRODID:-//Sabre//Sabre VObject 4.5.8//EN
CALSCALE:GREGORIAN
LAST-MODIFIED:20230307T233844Z
BEGIN:VTIMEZONE
TZID:America/New_York
X-MICROSOFT-CDO-TZID:10
BEGIN:STANDARD
DTSTART:20221106T060000
TZOFFSETFROM:-0400
TZOFFSETTO:-0500
TZNAME:EST
END:STANDARD
BEGIN:DAYLIGHT
DTSTART:20230312T070000
TZOFFSETFROM:-0500
TZOFFSETTO:-0400
TZNAME:EDT
END:DAYLIGHT
END:VTIMEZONE
BEGIN:VEVENT
UID:665c08c6-871d-4f53-a758-d6259ca56ca1
DTSTAMP:20230307T233844Z
SUMMARY:ARIA Working Group weekly meeting
DTSTART;TZID=America/New_York:20230309T130000
DTEND;TZID=America/New_York:20230309T140000
DESCRIPTION:https://www.w3.org/events/meetings/665c08c6-871d-4f53-a758-d625
 9ca56ca1/20230309T130000/\n\n\n\nAgenda\n\n* [New Issue Triage](https://bi
 t.ly/41Vy7gE)\n* [New PR Triage](https://bit.ly/3L300xg)\n* [F2F planning]
 (https://bit.ly/3F8sNNd)\n* [ARIAMixin has many integer attributes with st
 ring types and uses DOMString? incorrectly](https://github.com/w3c/aria/is
 sues/1110) - w/ @annevk\n* [Step 2C includes controls with value that are 
 directly referenced by labelledby or describedby](https://github.com/w3c/a
 ccname/pull/183)\n* [aria-hidden error case: disallow aria-hidden on root 
 or document element (e.g. <html> or <body>)](https://github.com/w3c/aria/i
 ssues/1254)
STATUS:CONFIRMED
CREATED:20230307T233843Z
LAST-MODIFIED:20230307T233844Z
SEQUENCE:5
ORGANIZER;CN=W3C Calendar;PARTSTAT=ACCEPTED;ROLE=NON-PARTICIPANT:mailto:nor
 eply@w3.org
ATTENDEE;CUTYPE=GROUP;ROLE=OPT-PARTICIPANT;RSVP=FALSE;CN=Accessible Rich In
 ternet Applications Working Group:mailto:public-aria@w3.org
RECURRENCE-ID;TZID=America/New_York:20230309T130000
END:VEVENT
END:VCALENDAR
