BEGIN:VCALENDAR
VERSION:2.0
PRODID:-//Sabre//Sabre VObject 4.5.8//EN
CALSCALE:GREGORIAN
LAST-MODIFIED:20241124T232603Z
BEGIN:VTIMEZONE
TZID:America/New_York
X-MICROSOFT-CDO-TZID:10
BEGIN:DAYLIGHT
DTSTART:20240310T070000
TZOFFSETFROM:-0500
TZOFFSETTO:-0400
TZNAME:EDT
END:DAYLIGHT
BEGIN:DAYLIGHT
DTSTART:20250309T070000
TZOFFSETFROM:-0500
TZOFFSETTO:-0400
TZNAME:EDT
END:DAYLIGHT
BEGIN:STANDARD
DTSTART:20241103T060000
TZOFFSETFROM:-0400
TZOFFSETTO:-0500
TZNAME:EST
END:STANDARD
END:VTIMEZONE
BEGIN:VEVENT
UID:660a4efe-67fd-4117-bc4c-a46d7c77e72e
DTSTAMP:20241124T232603Z
SUMMARY:Maturity Model TF Weekly Teleconference
DTSTART;TZID=America/New_York:20241204T110000
DTEND;TZID=America/New_York:20241204T115500
DESCRIPTION:https://www.w3.org/events/meetings/660a4efe-67fd-4117-bc4c-a46d
 7c77e72e/20241204T110000/\n\nI anticipate that Github Issue #233 2.4 Asses
 sment Template Needs Correcting and Github Issue #234 2.4.1 Maturity Model
  Excel Spreadsheet Should be Deleted will take up all of our meeting time 
 on December 4. Please review these issues over the next two weeks and resp
 ond via Github\, the Public Task Force email list\, or both. Engaging in a
  robust discussion about these issues prior to our next meeting will assis
 t us in resolving them faster\, and more efficiently.\n\nThank you.\n\nAge
 nda\n\nAgenda+ New Business\n\nAgenda+ Github Issue #233 2.4 Assessment Te
 mplate Needs Correcting\n \nAgenda+ Github Issue #234 2.4.1 Maturity Model
  Excel Spreadsheet Should be Deleted \n\nAgenda+ Messaging update with Jan
 ina\n\nAgenda+ Use Cases update with Stacey and Jennifer\n\nUpdate on Gith
 ub Issue #148 Resolution\n\nAgenda+ Update on Github Issue #226 Resolution
 \n\nAgenda+ Github Issue #230 Proof Points Communication Tab (Excel) Dupli
 cation\n\nAgenda+ Github Issue #231 Excel Workbook - Duplicate Proofpoint\
 n\nAgenda+ Github Issue #126 Update / NEWEST DLC Spreadsheet - Step 2
STATUS:CONFIRMED
CREATED:20241124T232603Z
LAST-MODIFIED:20241124T232603Z
SEQUENCE:1
ORGANIZER;CN=W3C Calendar;PARTSTAT=ACCEPTED;ROLE=NON-PARTICIPANT:mailto:nor
 eply@w3.org
ATTENDEE;CUTYPE=GROUP;ROLE=OPT-PARTICIPANT;RSVP=FALSE;CN=Maturity Model Tas
 k Force:mailto:public-maturity@w3.org
RECURRENCE-ID;TZID=America/New_York:20241204T110000
END:VEVENT
END:VCALENDAR
