BEGIN:VCALENDAR
VERSION:2.0
PRODID:-//Sabre//Sabre VObject 4.5.8//EN
CALSCALE:GREGORIAN
LAST-MODIFIED:20240814T070853Z
BEGIN:VTIMEZONE
TZID:America/New_York
X-MICROSOFT-CDO-TZID:10
BEGIN:STANDARD
DTSTART:20231105T060000
TZOFFSETFROM:-0400
TZOFFSETTO:-0500
TZNAME:EST
END:STANDARD
BEGIN:STANDARD
DTSTART:20241103T060000
TZOFFSETFROM:-0400
TZOFFSETTO:-0500
TZNAME:EST
END:STANDARD
BEGIN:DAYLIGHT
DTSTART:20240310T070000
TZOFFSETFROM:-0500
TZOFFSETTO:-0400
TZNAME:EDT
END:DAYLIGHT
END:VTIMEZONE
BEGIN:VEVENT
UID:660a4efe-67fd-4117-bc4c-a46d7c77e72e
DTSTAMP:20240814T070853Z
SUMMARY:Maturity Model TF Weekly Teleconference
DTSTART;TZID=America/New_York:20240814T110000
DTEND;TZID=America/New_York:20240814T115500
DESCRIPTION:https://www.w3.org/events/meetings/660a4efe-67fd-4117-bc4c-a46d
 7c77e72e/20240814T110000/\n\n\n\nAgenda\n\nAgenda+ New Business\n\nAgenda+
  WAI Group Note Messaging review\n\nAgenda+ GitHub Issue #98 'Stages' or '
 levels'?\n\nAgenda+ GitHub Issue #112 Proposing adjusted structure for Out
 comes\, Proof Points\, and Stages (back to previous proposal!)\n\nAgenda+ 
 GitHub Issue #118 Knowledge and Skills - Proof Point Updates
STATUS:CONFIRMED
CREATED:20240814T070853Z
LAST-MODIFIED:20240814T070853Z
SEQUENCE:1
ORGANIZER;CN=W3C Calendar;PARTSTAT=ACCEPTED;ROLE=NON-PARTICIPANT:mailto:nor
 eply@w3.org
ATTENDEE;CUTYPE=GROUP;ROLE=OPT-PARTICIPANT;RSVP=FALSE;CN=Maturity Model Tas
 k Force:mailto:public-maturity@w3.org
RECURRENCE-ID;TZID=America/New_York:20240814T110000
END:VEVENT
END:VCALENDAR
