BEGIN:VCALENDAR
VERSION:2.0
PRODID:-//Sabre//Sabre VObject 4.5.8//EN
CALSCALE:GREGORIAN
LAST-MODIFIED:20260316T161533Z
BEGIN:VTIMEZONE
TZID:Etc/UTC
BEGIN:STANDARD
DTSTART:20230318T220000
TZOFFSETFROM:+0000
TZOFFSETTO:+0000
TZNAME:UTC
END:STANDARD
END:VTIMEZONE
BEGIN:VEVENT
UID:6537214b-f033-4fe2-b8be-02724f3f4df0
DTSTAMP:20260316T161533Z
SUMMARY:Promote the PROPOSED Federated Identity Working Group
DTSTART;TZID=Etc/UTC:20240312T220000
DTEND;TZID=Etc/UTC:20240312T230000
DESCRIPTION:https://www.w3.org/events/meetings/6537214b-f033-4fe2-b8be-0272
 4f3f4df0/\n\nThis session will serve to answer questions about the propose
 d Federated Identity Working Group\, encouraging participation from all in
 terested parties.\n\n**Goal(s):**\nRaise awareness of and encourage partic
 ipation in the FedID WG\n\n**Track(s):**\n- identity\n\nAgenda\n\nAdminist
 rivia\n- [Code of Ethics and Professional Conduct](https://www.w3.org/Cons
 ortium/cepc/)\n- [Antitrust and Competition Guidance](https://www.w3.org/C
 onsortium/Legal/2017/antitrust-guidance)\n- [Policy on recording sessions]
 (https://github.com/w3c/tpac-breakouts/wiki/Policies#recording-sessions)\n
 - Check in with participants - questions\, goals\, understanding of W3C pr
 ocesses\n\nBackground\n- Charter text (see https://w3c.github.io/charter-d
 rafts/2024/wg-fedid.html) \n- Current state of the proposed charter (see h
 ttps://github.com/w3c/strategy/issues/427#issuecomment-1979221054) \n\n(Sh
 ort presentation) What is the Federated Identity WG?\n- What is in scope?\
 n- How does it relate to the Federated Identity CG?\n- Related areas of in
 terest (starting with the Privacy CG\, WICG Digital Identity)\n- Expected 
 timeline for the group / for the work.\n\nDiscussion\n\n**Materials:**\n- 
 [Session proposal on GitHub](https://github.com/w3c/breakouts-day-2024/iss
 ues/3)
STATUS:CONFIRMED
CREATED:20240302T122800Z
LAST-MODIFIED:20260316T161533Z
SEQUENCE:4
ORGANIZER;CN=W3C Calendar;PARTSTAT=ACCEPTED;ROLE=NON-PARTICIPANT:mailto:nor
 eply@w3.org
LOCATION:Ukulele
CATEGORIES:W3C Breakouts Day 2024,Breakout Sessions
END:VEVENT
END:VCALENDAR
