BEGIN:VCALENDAR
VERSION:2.0
PRODID:-//Sabre//Sabre VObject 4.5.8//EN
CALSCALE:GREGORIAN
LAST-MODIFIED:20251103T174827Z
BEGIN:VTIMEZONE
TZID:Asia/Tokyo
X-MICROSOFT-CDO-TZID:20
BEGIN:STANDARD
DTSTART:20241118T044500
TZOFFSETFROM:+0900
TZOFFSETTO:+0900
TZNAME:JST
END:STANDARD
END:VTIMEZONE
BEGIN:VEVENT
UID:64f34681-248b-4a4c-9f98-132bae13d8de
DTSTAMP:20251103T174827Z
SUMMARY:Web Authentication Working Group
DTSTART;TZID=Asia/Tokyo:20251113T134500
DTEND;TZID=Asia/Tokyo:20251113T164500
DESCRIPTION:https://www.w3.org/events/meetings/64f34681-248b-4a4c-9f98-132b
 ae13d8de/\n\n
STATUS:CONFIRMED
CREATED:20250716T142713Z
LAST-MODIFIED:20251103T174827Z
SEQUENCE:8
ORGANIZER;CN=W3C Calendar;PARTSTAT=ACCEPTED;ROLE=NON-PARTICIPANT:mailto:nor
 eply@w3.org
ATTENDEE;CUTYPE=GROUP;ROLE=OPT-PARTICIPANT;RSVP=FALSE;CN=Web Authentication
  Working Group:mailto:public-webauthn@w3.org
LOCATION:Floor 4 - 401
CATEGORIES:TPAC 2025,Group Meetings
END:VEVENT
END:VCALENDAR
