BEGIN:VCALENDAR
VERSION:2.0
PRODID:-//Sabre//Sabre VObject 4.5.8//EN
CALSCALE:GREGORIAN
LAST-MODIFIED:20220505T102546Z
BEGIN:VTIMEZONE
TZID:Etc/UTC
BEGIN:STANDARD
DTSTART:20210516T070000
TZOFFSETFROM:+0000
TZOFFSETTO:+0000
TZNAME:UTC
END:STANDARD
END:VTIMEZONE
BEGIN:VEVENT
UID:646ea87e-dcfb-45fa-82f5-c69e6bf9affa
DTSTAMP:20220505T102546Z
SUMMARY:WebView CG - Second meeting
DTSTART;TZID=Etc/UTC:20220511T070000
DTEND;TZID=Etc/UTC:20220511T080000
DESCRIPTION:https://www.w3.org/events/meetings/646ea87e-dcfb-45fa-82f5-c69e
 6bf9affa/\n\nSecond teleconference of the WebView Community Group\, which 
 aims to identify\, understand and reduce the issues arising from the use o
 f WebViews to render Web technology-based content outside of a Web browser
  (Native Apps\, MiniApps\, etc).\n\nThe meeting will primarily focus on di
 scussing the use cases submitted by the community.\n\nNote: We understand 
 that the time slot does not work for everyone. The next Community Group me
 eting will be held in a more US-friendly time.\n\nAgenda: https://github.c
 om/WebView-CG/usage-and-challenges/blob/main/meetings/2nd-meeting-agenda-2
 20511.md#second-meeting-agenda-2022-05-11\n\nAgenda\n\n- Review and discus
 s use cases\, https://github.com/WebView-CG/usage-and-challenges/issues?q=
 is%3Aissue+is%3Aopen+label%3A%22use+case%22\n- Kick off the use cases and 
 limitations report draft\, https://github.com/WebView-CG/charter/blob/main
 /charter.md#non-normative-reports\n- Review other issues (if we have time)
 \, https://github.com/WebView-CG/usage-and-challenges/issues
STATUS:CONFIRMED
CREATED:20220502T164451Z
LAST-MODIFIED:20220505T102546Z
SEQUENCE:2
ORGANIZER;CN=W3C Calendar;PARTSTAT=ACCEPTED;ROLE=NON-PARTICIPANT:mailto:nor
 eply@w3.org
ATTENDEE;CUTYPE=GROUP;ROLE=OPT-PARTICIPANT;RSVP=FALSE;CN=WebView Community 
 Group:mailto:public-webview@w3.org
END:VEVENT
END:VCALENDAR
