BEGIN:VCALENDAR
VERSION:2.0
PRODID:-//Sabre//Sabre VObject 4.5.8//EN
CALSCALE:GREGORIAN
LAST-MODIFIED:20251109T191529Z
BEGIN:VTIMEZONE
TZID:Asia/Tokyo
X-MICROSOFT-CDO-TZID:20
BEGIN:STANDARD
DTSTART:20241115T000000
TZOFFSETFROM:+0900
TZOFFSETTO:+0900
TZNAME:JST
END:STANDARD
END:VTIMEZONE
BEGIN:VEVENT
UID:6449c85b-7e05-4ecf-a6cb-438e3bbfda47
DTSTAMP:20251109T191529Z
SUMMARY:Technical Architecture Group
DTSTART;TZID=Asia/Tokyo:20251110T090000
DTEND;TZID=Asia/Tokyo:20251110T103000
DESCRIPTION:https://www.w3.org/events/meetings/6449c85b-7e05-4ecf-a6cb-438e
 3bbfda47/\n\n**This is a _closed_ session. Only TAG members and TAG Associ
 ates may attend.** It's unlikely to be very interesting for others anyway:
  we're just assigning people to attend various meetings. If you want us to
  send someone to your meeting\, file an issue in https://w3ctag.github.io/
 tpac-meetings/.\n\nAgenda\n\n1. Go through the week's sessions\, in https:
 //github.com/w3ctag/tpac-meetings/issues and https://w3ctag.github.io/tpac
 -meetings/.\n2. Figure out which ones actually need a TAG attendee.\n3. Vo
 lunteer at least 1 TAG member to go to each of those.
STATUS:CONFIRMED
CREATED:20250716T142344Z
LAST-MODIFIED:20251109T191529Z
SEQUENCE:8
ORGANIZER;CN=W3C Calendar;PARTSTAT=ACCEPTED;ROLE=NON-PARTICIPANT:mailto:nor
 eply@w3.org
ATTENDEE;CUTYPE=GROUP;ROLE=OPT-PARTICIPANT;RSVP=FALSE;CN=Technical Architec
 ture Group:mailto:tag@w3.org
LOCATION:Floor 3 - 304
CATEGORIES:TPAC 2025,Group Meetings
END:VEVENT
END:VCALENDAR
