BEGIN:VCALENDAR
VERSION:2.0
PRODID:-//Sabre//Sabre VObject 4.5.8//EN
CALSCALE:GREGORIAN
LAST-MODIFIED:20220818T152048Z
BEGIN:VTIMEZONE
TZID:Etc/UTC
BEGIN:STANDARD
DTSTART:20210828T140000
TZOFFSETFROM:+0000
TZOFFSETTO:+0000
TZNAME:UTC
END:STANDARD
END:VTIMEZONE
BEGIN:VEVENT
UID:63dd1860-9360-4aef-a5a1-c86b2f090111
DTSTAMP:20220818T152048Z
SUMMARY:WebView Community Group Sync
DTSTART;TZID=Etc/UTC:20220823T140000
DTEND;TZID=Etc/UTC:20220823T150000
DESCRIPTION:https://www.w3.org/events/meetings/63dd1860-9360-4aef-a5a1-c86b
 2f090111/\n\nEighth teleconference of the WebView Community Group\, which 
 aims to identify\, understand and reduce the issues arising from the use o
 f WebViews to render Web technology-based content outside of a Web browser
  (Native Apps\, MiniApps\, etc).\n\nThe meeting will primarily focus on di
 scussing the use cases submitted by the community.\n\nAgenda: https://gith
 ub.com/WebView-CG/usage-and-challenges/blob/main/meetings/8th-meeting-agen
 da-220823.md\n\nAgenda\n\n# Eighth meeting agenda (2022-08-23)\n\n * Revie
 w and discuss use cases\, https://github.com/WebView-CG/usage-and-challeng
 es/issues?q=is%3Aissue+is%3Aopen+label%3AAgenda%2B\n * Review other issues
 \, https://github.com/WebView-CG/usage-and-challenges/issues
STATUS:CONFIRMED
CREATED:20220818T152009Z
LAST-MODIFIED:20220818T152048Z
SEQUENCE:1
ORGANIZER;CN=W3C Calendar;PARTSTAT=ACCEPTED;ROLE=NON-PARTICIPANT:mailto:nor
 eply@w3.org
ATTENDEE;CUTYPE=GROUP;ROLE=OPT-PARTICIPANT;RSVP=FALSE;CN=WebView Community 
 Group:mailto:public-webview@w3.org
END:VEVENT
END:VCALENDAR
