BEGIN:VCALENDAR
VERSION:2.0
PRODID:-//Sabre//Sabre VObject 4.5.8//EN
CALSCALE:GREGORIAN
LAST-MODIFIED:20260316T161323Z
BEGIN:VTIMEZONE
TZID:Etc/UTC
BEGIN:STANDARD
DTSTART:20230318T220000
TZOFFSETFROM:+0000
TZOFFSETTO:+0000
TZNAME:UTC
END:STANDARD
END:VTIMEZONE
BEGIN:VEVENT
UID:637c8829-f322-4799-8787-2fefec8ce327
DTSTAMP:20260316T161323Z
SUMMARY:Incubation: the on ramp to new work
DTSTART;TZID=Etc/UTC:20240312T220000
DTEND;TZID=Etc/UTC:20240312T230000
DESCRIPTION:https://www.w3.org/events/meetings/637c8829-f322-4799-8787-2fef
 ec8ce327/\n\nThe process of incubation\, and some of its parameters\, are 
 not currently well-defined at W3C.  I'd like to gather perspectives to fur
 ther the work on Incubation in the AB (https://github.com/w3c/AB-memberonl
 y/blob/master/documents/Incubation.md).\n\nSome provoking questions to exp
 lore:\n- How should incubation work?\n- At what stage of "doneness" should
  work move from an incubation venue to a working group?\n- How should an i
 ncubation group be communicating their work to a broader venue to ease acc
 eptance as a WG deliverable?\n- What expectation of incubation should ther
 e be before work is accepted into a WG\, or into its charter?\n- What best
  practices should we define for referring to incubations?\n\n**Goal(s):**\
 nGather input and perspectives to further the AB work on improving incubat
 ion process\n\nAgenda\n\n**Materials:**\n- [Session proposal on GitHub](ht
 tps://github.com/w3c/breakouts-day-2024/issues/24)
STATUS:CONFIRMED
CREATED:20240302T123853Z
LAST-MODIFIED:20260316T161323Z
SEQUENCE:4
ORGANIZER;CN=W3C Calendar;PARTSTAT=ACCEPTED;ROLE=NON-PARTICIPANT:mailto:nor
 eply@w3.org
LOCATION:Kora
CATEGORIES:W3C Breakouts Day 2024,Breakout Sessions
END:VEVENT
END:VCALENDAR
