BEGIN:VCALENDAR
VERSION:2.0
PRODID:-//Sabre//Sabre VObject 4.5.8//EN
CALSCALE:GREGORIAN
LAST-MODIFIED:20241105T134742Z
BEGIN:VTIMEZONE
TZID:Europe/Berlin
X-MICROSOFT-CDO-TZID:4
BEGIN:DAYLIGHT
DTSTART:20240331T010000
TZOFFSETFROM:+0100
TZOFFSETTO:+0200
TZNAME:CEST
END:DAYLIGHT
BEGIN:DAYLIGHT
DTSTART:20250330T010000
TZOFFSETFROM:+0100
TZOFFSETTO:+0200
TZNAME:CEST
END:DAYLIGHT
BEGIN:STANDARD
DTSTART:20241027T010000
TZOFFSETFROM:+0200
TZOFFSETTO:+0100
TZNAME:CET
END:STANDARD
END:VTIMEZONE
BEGIN:VEVENT
UID:6373e85a-936c-4c9e-8db4-919a9fcc5635
DTSTAMP:20241105T134742Z
SUMMARY:Meetup 22: Scientific Instrumentation and Control with WoT
DTSTART;TZID=Europe/Berlin:20241118T160000
DTEND;TZID=Europe/Berlin:20241118T173000
DESCRIPTION:https://www.w3.org/events/meetings/6373e85a-936c-4c9e-8db4-919a
 9fcc5635/\n\nIn our upcoming meetup\, we welcome Vignesh Vaidyanathan ([Gi
 tHub](https://github.com/VigneshVSV)\, [LinkedIn](https://www.linkedin.com
 /in/v-vignesh-venkata-subramanian-7a53a3108/)) who will discuss potential 
 applications of WoT in Scientific Instrumentation and Control applications
  in large-scale experimentation labs.\n \nHe will show a WoT setup impleme
 nted in a 3 Terawatt pulsed laser system to capture data from different sc
 ientific instruments with his beginner friendly server side runtime called
  [hololinked](https://github.com/VigneshVSV/hololinked). He will further d
 emonstrate the use case of state machine in building GUI applications with
  Eclipse Thingweb node-wot.\n\nNote: This is the rescheduled event of http
 s://www.w3.org/events/meetings/b74f11e7-93d6-4b15-b998-6e55054a6f61/\n\nAg
 enda\n\n- News from the CG\n- Introduction of the Speaker\n- Presentation\
 n- Q&A\n- Discussion session\n\nJoining Instructions: https://teams.micros
 oft.com/l/meetup-join/19%3ameeting_NGQ4NDFiY2UtMmI0Mi00N2Y4LWJmY2YtMTcxMTU
 0ZDAxYjhh%40thread.v2/0?context=%7b%22Tid%22%3a%2238ae3bcd-9579-4fd4-adda-
 b42e1495d55a%22%2c%22Oid%22%3a%22d4a09f25-e37d-4f6d-95cf-a8c302d7e2d2%22%7
 d\n\nJoining Instructions\n\nIf the direct link does not work:\n\nGo to: h
 ttps://www.microsoft.com/en-us/microsoft-teams/join-a-meeting\nMeeting ID:
  353 847 144 555\nPasscode: wqJunW\n\nFull Link: https://teams.microsoft.c
 om/l/meetup-join/19%3ameeting_NGQ4NDFiY2UtMmI0Mi00N2Y4LWJmY2YtMTcxMTU0ZDAx
 Yjhh%40thread.v2/0?context=%7b%22Tid%22%3a%2238ae3bcd-9579-4fd4-adda-b42e1
 495d55a%22%2c%22Oid%22%3a%22d4a09f25-e37d-4f6d-95cf-a8c302d7e2d2%22%7d
STATUS:CONFIRMED
CREATED:20241105T134740Z
LAST-MODIFIED:20241105T134742Z
SEQUENCE:0
ORGANIZER;CN=W3C Calendar;PARTSTAT=ACCEPTED;ROLE=NON-PARTICIPANT:mailto:nor
 eply@w3.org
ATTENDEE;CUTYPE=GROUP;ROLE=OPT-PARTICIPANT;RSVP=FALSE;CN=Web of Things Comm
 unity Group:mailto:public-web-of-things@w3.org
END:VEVENT
END:VCALENDAR
