BEGIN:VCALENDAR
VERSION:2.0
PRODID:-//Sabre//Sabre VObject 4.5.8//EN
CALSCALE:GREGORIAN
LAST-MODIFIED:20220914T174659Z
BEGIN:VTIMEZONE
TZID:America/Vancouver
BEGIN:STANDARD
DTSTART:20211107T090000
TZOFFSETFROM:-0700
TZOFFSETTO:-0800
TZNAME:PST
END:STANDARD
BEGIN:STANDARD
DTSTART:20221106T090000
TZOFFSETFROM:-0700
TZOFFSETTO:-0800
TZNAME:PST
END:STANDARD
BEGIN:DAYLIGHT
DTSTART:20220313T100000
TZOFFSETFROM:-0800
TZOFFSETTO:-0700
TZNAME:PDT
END:DAYLIGHT
END:VTIMEZONE
BEGIN:VEVENT
UID:61d3cce7-63df-49cc-bd7d-e1dba886dd59
DTSTAMP:20220914T174659Z
SUMMARY:Device APIs (Bluetooth\, HID\, Serial\, USB)
DTSTART;TZID=America/Vancouver:20220914T111500
DTEND;TZID=America/Vancouver:20220914T121500
DESCRIPTION:https://www.w3.org/events/meetings/61d3cce7-63df-49cc-bd7d-e1db
 a886dd59/\n\nLow level [device APIs](https://web.dev/devices/) in incubati
 on address a range of needs in education\, industrial\, small business\, a
 nd enterprise. Many peripherals people expect to work with computers have 
 become available to web applications. Chrome\, Edge\, and Samsung browsers
  have enabled Bluetooth\, HID\, Serial\, and USB. We will discuss the [ado
 ption](https://developer.chrome.com/blog/fugu-showcase/?api=webbluetooth) 
 & [developer interest](https://twitter.com/Vincent_Scheib/timelines/120704
 6778916237312) to date\, answer questions\, and discuss opportunities for 
 the web to serve more needs. [Presentation Slides](https://docs.google.com
 /presentation/d/1Nf64QLI-lkyqJ7UoDUPefrLJU7zcTUJKvTYV8L7ZAaY/edit?resource
 key=0-Bf69ilULrcA4qBZb7ZHdkA#slide=id.p)\n\nAgenda\n\n**Facilitators & spe
 akers**: Vincent Scheib\n\n**Session type**: Presentation and discussion.\
 n\n**Summary**: Low level [device APIs](https://web.dev/devices/) in incub
 ation address a range of needs in education\, industrial\, small business\
 , and enterprise. Many peripherals people expect to work with computers ha
 ve become available to web applications. Chrome\, Edge\, and Samsung brows
 ers have enabled Bluetooth\, HID\, Serial\, and USB. We will discuss the [
 adoption](https://developer.chrome.com/blog/fugu-showcase/?api=webbluetoot
 h) & [developer interest](https://twitter.com/Vincent_Scheib/timelines/120
 7046778916237312) to date\, answer questions\, and discuss opportunities f
 or the web to serve more needs.\n\n**Goals**:\n- Build awareness\, share w
 hat has been learned\, answer questions. Solicit working group interest.\n
 \nJoining Instructions: https://us02web.zoom.us/j/4415985829?pwd=cEJHcm95S
 1A2NEhPQXBycHZlZHpNUT09\n\nChat\n\nhttps://irc.w3.org/?channels=%23device-
 apis
STATUS:CONFIRMED
CREATED:20220909T111658Z
LAST-MODIFIED:20220914T174659Z
SEQUENCE:1
ORGANIZER;CN=W3C Calendar;PARTSTAT=ACCEPTED;ROLE=NON-PARTICIPANT:mailto:nor
 eply@w3.org
ATTENDEE;CN=Joshua Bell:mailto:jsbell@google.com
ATTENDEE;CN=Christian Biesinger:mailto:cbiesinger@google.com
ATTENDEE;CN=Karl Dubost:mailto:karl@la-grange.net
ATTENDEE;CN=Rob Eisenberg:mailto:rob@bluespire.com
ATTENDEE;CN=Mark Foltz:mailto:mfoltz@google.com
ATTENDEE;CN=Sam Goto:mailto:goto@google.com
ATTENDEE;CN=Hakan Isbiliroglu:mailto:hisbilir@google.com
ATTENDEE;CN=Kousuke Koiwai:mailto:ko-koiwai@kddi.com
ATTENDEE;CN=Ben Morss:mailto:morss@google.com
ATTENDEE;CN=Bradley Needham:mailto:bradley.needham@sony.com
ATTENDEE;CN=Theresa O'Connor:mailto:hober@apple.com
ATTENDEE;CN=Harry Wang:mailto:harryhwang@tencent.com
ATTENDEE;CN=Chris Wilson:mailto:cwilso@gmail.com
ATTENDEE;CN=Jeffrey Yasskin:mailto:jyasskin@google.com
ATTENDEE;CN=Aoyuan Zuo:mailto:zuoaoyuan@google.com
LOCATION:Junior B — North Tower 3rd floor
CATEGORIES:TPAC 2022,Breakout Sessions
END:VEVENT
END:VCALENDAR
