BEGIN:VCALENDAR
VERSION:2.0
PRODID:-//Sabre//Sabre VObject 4.5.8//EN
CALSCALE:GREGORIAN
LAST-MODIFIED:20221206T172230Z
BEGIN:VTIMEZONE
TZID:America/Toronto
BEGIN:DAYLIGHT
DTSTART:20220313T070000
TZOFFSETFROM:-0500
TZOFFSETTO:-0400
TZNAME:EDT
END:DAYLIGHT
BEGIN:DAYLIGHT
DTSTART:20230312T070000
TZOFFSETFROM:-0500
TZOFFSETTO:-0400
TZNAME:EDT
END:DAYLIGHT
BEGIN:STANDARD
DTSTART:20221106T060000
TZOFFSETFROM:-0400
TZOFFSETTO:-0500
TZNAME:EST
END:STANDARD
END:VTIMEZONE
BEGIN:VEVENT
UID:6117390b-3002-4cdd-8512-d41b70273673
DTSTAMP:20221206T172230Z
SUMMARY:Anti-Counterfeit Taskforce meeting
DTSTART;TZID=America/Toronto:20221209T090000
DTEND;TZID=America/Toronto:20221209T100000
DESCRIPTION:https://www.w3.org/events/meetings/6117390b-3002-4cdd-8512-d41b
 70273673/\n\nAnti-Counterfeit TF meeting at Dec 9th.\n\nAgenda\n\nDemonstr
 ations of two possible existing technologies that might help us authentica
 te epubs:\n        Sebastian Posth to talk about the ISCC\n        https:/
 /iscc.codes/#a-proposal-for-a-modern-and-open-content-based-identifier\n\n
         Leonard Rosenthal to talk about the C2PA\n        https://c2pa.org
 /
STATUS:CONFIRMED
CREATED:20221206T172156Z
LAST-MODIFIED:20221206T172230Z
SEQUENCE:1
ORGANIZER;CN=W3C Calendar;PARTSTAT=ACCEPTED;ROLE=NON-PARTICIPANT:mailto:nor
 eply@w3.org
ATTENDEE;CUTYPE=GROUP;ROLE=OPT-PARTICIPANT;RSVP=FALSE;CN=Publishing Communi
 ty Group:mailto:public-publishingcg@w3.org
END:VEVENT
END:VCALENDAR
