BEGIN:VCALENDAR
VERSION:2.0
PRODID:-//Sabre//Sabre VObject 4.5.8//EN
CALSCALE:GREGORIAN
LAST-MODIFIED:20250917T083247Z
BEGIN:VTIMEZONE
TZID:Etc/UTC
BEGIN:STANDARD
DTSTART:20240921T150000
TZOFFSETFROM:+0000
TZOFFSETTO:+0000
TZNAME:UTC
END:STANDARD
END:VTIMEZONE
BEGIN:VEVENT
UID:60388ffe-907b-4529-b4df-e2e8f50692be
DTSTAMP:20250917T083247Z
SUMMARY:WebRTC WG September 2025 call
DTSTART;TZID=Etc/UTC:20250916T150000
DTEND;TZID=Etc/UTC:20250916T170000
DESCRIPTION:https://www.w3.org/events/meetings/60388ffe-907b-4529-b4df-e2e8
 f50692be/\n\n\n\nAgenda: https://www.w3.org/2011/04/webrtc/wiki/September_
 16_2025
STATUS:CONFIRMED
CREATED:20250723T062232Z
LAST-MODIFIED:20250917T083247Z
SEQUENCE:1
ORGANIZER;CN=W3C Calendar;PARTSTAT=ACCEPTED;ROLE=NON-PARTICIPANT:mailto:nor
 eply@w3.org
ATTENDEE;CUTYPE=GROUP;ROLE=OPT-PARTICIPANT;RSVP=FALSE;CN=Web Real-Time Comm
 unications Working Group:mailto:public-webrtc@w3.org
END:VEVENT
END:VCALENDAR
