BEGIN:VCALENDAR
VERSION:2.0
PRODID:-//Sabre//Sabre VObject 4.5.8//EN
CALSCALE:GREGORIAN
LAST-MODIFIED:20250612T101014Z
BEGIN:VTIMEZONE
TZID:Etc/UTC
BEGIN:STANDARD
DTSTART:20240621T150000
TZOFFSETFROM:+0000
TZOFFSETTO:+0000
TZNAME:UTC
END:STANDARD
END:VTIMEZONE
BEGIN:VEVENT
UID:60378fe9-8a17-4d15-a62c-bd9ce206810d
DTSTAMP:20250612T101014Z
SUMMARY:WebView CG Meeting
DTSTART;TZID=Etc/UTC:20250616T150000
DTEND;TZID=Etc/UTC:20250616T160000
DESCRIPTION:https://www.w3.org/events/meetings/60378fe9-8a17-4d15-a62c-bd9c
 e206810d/\n\nLet's check on our plans for TPAC 2025 and continue the discu
 ssion on the WebView Definition.\n\nAgenda: https://bit.ly/webview-cg-june
 -2025\n\nAgenda\n\n* TPAC 2024\n* Chairing\n* [WebView explainer](https://
 github.com/WebView-CG/webview-definition/pull/1)
STATUS:CONFIRMED
CREATED:20250612T063206Z
LAST-MODIFIED:20250612T101014Z
SEQUENCE:1
ORGANIZER;CN=W3C Calendar;PARTSTAT=ACCEPTED;ROLE=NON-PARTICIPANT:mailto:nor
 eply@w3.org
ATTENDEE;CUTYPE=GROUP;ROLE=OPT-PARTICIPANT;RSVP=FALSE;CN=WebView Community 
 Group:mailto:public-webview@w3.org
END:VEVENT
END:VCALENDAR
