BEGIN:VCALENDAR
VERSION:2.0
PRODID:-//Sabre//Sabre VObject 4.5.8//EN
CALSCALE:GREGORIAN
LAST-MODIFIED:20220415T120805Z
BEGIN:VTIMEZONE
TZID:Etc/UTC
BEGIN:STANDARD
DTSTART:20210425T090000
TZOFFSETFROM:+0000
TZOFFSETTO:+0000
TZNAME:UTC
END:STANDARD
END:VTIMEZONE
BEGIN:VEVENT
UID:5fc3582f-5aec-4e07-baea-ac5362d2b156
DTSTAMP:20220415T120805Z
SUMMARY:WebView CG - Hello world call!
DTSTART;TZID=Etc/UTC:20220420T090000
DTEND;TZID=Etc/UTC:20220420T100000
DESCRIPTION:https://www.w3.org/events/meetings/5fc3582f-5aec-4e07-baea-ac53
 62d2b156/\n\nFirst teleconference of the newly created WebView Community G
 roup\, which aims to identify\, understand and reduce the issues arising f
 rom the use of WebViews to render Web technology-based content outside of 
 a Web browser (Native Apps\, MiniApps\, etc)\n\nAgenda\n\n- Welcome! Round
  of introductions -- 5min\n- CG charter: scope and objectives  -- 10min\n-
  Logistics: recurring calls\, GitHub repository\, document edition  -- 10m
 in\n- Template to collect use cases & requirements  -- 10min\n- Github iss
 ues discussion -- 25min\n- AoB
STATUS:CONFIRMED
CREATED:20220415T081206Z
LAST-MODIFIED:20220415T120805Z
SEQUENCE:1
ORGANIZER;CN=W3C Calendar;PARTSTAT=ACCEPTED;ROLE=NON-PARTICIPANT:mailto:nor
 eply@w3.org
ATTENDEE;CUTYPE=GROUP;ROLE=OPT-PARTICIPANT;RSVP=FALSE;CN=WebView Community 
 Group:mailto:public-webview@w3.org
END:VEVENT
END:VCALENDAR
