BEGIN:VCALENDAR
VERSION:2.0
PRODID:-//Sabre//Sabre VObject 4.5.8//EN
CALSCALE:GREGORIAN
LAST-MODIFIED:20260419T171139Z
BEGIN:VTIMEZONE
TZID:America/New_York
X-MICROSOFT-CDO-TZID:10
BEGIN:STANDARD
DTSTART:20251102T060000
TZOFFSETFROM:-0400
TZOFFSETTO:-0500
TZNAME:EST
END:STANDARD
BEGIN:STANDARD
DTSTART:20261101T060000
TZOFFSETFROM:-0400
TZOFFSETTO:-0500
TZNAME:EST
END:STANDARD
BEGIN:DAYLIGHT
DTSTART:20260308T070000
TZOFFSETFROM:-0500
TZOFFSETTO:-0400
TZNAME:EDT
END:DAYLIGHT
END:VTIMEZONE
BEGIN:VEVENT
UID:5fbec32e-e232-42e2-a33b-d8475d928452
DTSTAMP:20260419T171139Z
SUMMARY:VC Barcode and Data Integrity
DTSTART;TZID=America/New_York:20260630T100000
DTEND;TZID=America/New_York:20260630T105500
DESCRIPTION:https://www.w3.org/events/meetings/5fbec32e-e232-42e2-a33b-d847
 5d928452/20260630T100000/\n\nCombined meeting for VC Barcodes and Data Int
 egrity\n\nAgenda\n\nStanding agenda: \n\n1. Announcements/introductions (5
 min)\n2. VC Barcodes PR review/issue processing (25min)\n3. Data Integrity
  PR review/issue processing (25min)
STATUS:CONFIRMED
CREATED:20260419T171139Z
LAST-MODIFIED:20260419T171139Z
SEQUENCE:2
ORGANIZER;CN=W3C Calendar;PARTSTAT=ACCEPTED;ROLE=NON-PARTICIPANT:mailto:nor
 eply@w3.org
ATTENDEE;CUTYPE=GROUP;ROLE=OPT-PARTICIPANT;RSVP=FALSE;CN=VC Barcodes and Da
 ta Integrity:mailto:VC WG TF on Barcode and DI@w3.org
RECURRENCE-ID;TZID=America/New_York:20260630T100000
END:VEVENT
END:VCALENDAR
