BEGIN:VCALENDAR
VERSION:2.0
PRODID:-//Sabre//Sabre VObject 4.5.8//EN
CALSCALE:GREGORIAN
LAST-MODIFIED:20220315T144958Z
BEGIN:VTIMEZONE
TZID:Europe/London
X-MICROSOFT-CDO-TZID:1
BEGIN:DAYLIGHT
DTSTART:20210328T010000
TZOFFSETFROM:+0000
TZOFFSETTO:+0100
TZNAME:BST
END:DAYLIGHT
BEGIN:DAYLIGHT
DTSTART:20220327T010000
TZOFFSETFROM:+0000
TZOFFSETTO:+0100
TZNAME:BST
END:DAYLIGHT
BEGIN:STANDARD
DTSTART:20211031T010000
TZOFFSETFROM:+0100
TZOFFSETTO:+0000
TZNAME:GMT
END:STANDARD
END:VTIMEZONE
BEGIN:VEVENT
UID:5e4758ba-3e80-4e71-b333-5f2c4fd95abd
DTSTAMP:20220125T034049Z
SUMMARY:W3C Internationalization Working Group Teleconference
DTSTART;TZID=Europe/London:20220127T150000
DTEND;TZID=Europe/London:20220127T160000
DESCRIPTION:https://www.w3.org/events/meetings/5e4758ba-3e80-4e71-b333-5f2c
 4fd95abd/\n\n\n\nAgenda\n\n=== BE PREPARED ===\n\n=== REMINDER ===\n\n=== 
 SCRIBE ===\n\nIf you are set to scribe and cannot make it\, please send re
 grets to the chair. Volunteers to act as scribe cheerfully accepted.\n\nFu
 qiao [2021-12-16]\nAtsushi [2022-01-13]\nBert [2022-01-20]\n\n=== MEETING 
 INFO ===\n\nhttps://www.w3.org/2017/09/i18n-meeting-info.html (Member Only
  Link)\n\n=== AGENDA ===\n\nTopic: Agenda Review\n\nTopic: Action Items\nh
 ttp://www.w3.org/International/track/actions/open\n\nTopic: Info Share\n\n
 Topic: RADAR Review\nhttps://github.com/w3c/i18n-request/projects/1\n\nTop
 ic: AOB?
STATUS:TENTATIVE
CREATED:20220120T160929Z
LAST-MODIFIED:20220125T034049Z
SEQUENCE:2
ORGANIZER;CN=W3C Calendar;PARTSTAT=ACCEPTED;ROLE=NON-PARTICIPANT:mailto:nor
 eply@w3.org
ATTENDEE;CUTYPE=GROUP;ROLE=OPT-PARTICIPANT;RSVP=FALSE;CN=Internationalizati
 on Working Group:mailto:public-i18n-core@w3.org
LOCATION:https://www.w3.org/2017/09/i18n-meeting-info.html (Member Only Lin
 k)
RRULE:FREQ=WEEKLY;UNTIL=20220317T150000Z;INTERVAL=1;BYDAY=TH;WKST=MO
END:VEVENT
BEGIN:VEVENT
UID:5e4758ba-3e80-4e71-b333-5f2c4fd95abd
DTSTAMP:20220125T034048Z
SUMMARY:W3C Internationalization Working Group Teleconference
DTSTART;TZID=Europe/London:20220127T150000
DTEND;TZID=Europe/London:20220127T160000
DESCRIPTION:https://www.w3.org/events/meetings/5e4758ba-3e80-4e71-b333-5f2c
 4fd95abd/20220127T150000/\n\n\n\nAgenda\n\n=== BE PREPARED ===\n\n=== REMI
 NDER ===\n\n=== SCRIBE ===\n\nIf you are set to scribe and cannot make it\
 , please send regrets to the chair. Volunteers to act as scribe cheerfully
  accepted.\n\nFuqiao [2021-12-16]\nAtsushi [2022-01-13]\nBert [2022-01-20]
 \n\n=== AGENDA ===\n\nTopic: Agenda Review\n\nTopic: Action Items\nhttp://
 www.w3.org/International/track/actions/open\n\nTopic: Info Share\n\nTopic:
  RADAR Review\n* https://github.com/w3c/i18n-request/projects/1\n\nTopic: 
 Edits in Glossary and Specdev\n* https://w3c.github.io/i18n-glossary/\n* h
 ttps://w3c.github.io/bp-i18n-specdev/\n\nTopic: String Meta explainer\n* h
 ttps://github.com/aphillips/i18n-discuss/blob/gh-pages/explainers/string-m
 eta-explainer.md\n\nTopic: AOB?
STATUS:CONFIRMED
CREATED:20220125T034048Z
LAST-MODIFIED:20220125T034048Z
SEQUENCE:3
ORGANIZER;CN=W3C Calendar;PARTSTAT=ACCEPTED;ROLE=NON-PARTICIPANT:mailto:nor
 eply@w3.org
ATTENDEE;CUTYPE=GROUP;ROLE=OPT-PARTICIPANT;RSVP=FALSE;CN=Internationalizati
 on Working Group:mailto:public-i18n-core@w3.org
LOCATION:https://www.w3.org/2017/09/i18n-meeting-info.html (Member Only Lin
 k)
RECURRENCE-ID;TZID=Europe/London:20220127T150000
END:VEVENT
BEGIN:VEVENT
UID:5e4758ba-3e80-4e71-b333-5f2c4fd95abd
DTSTAMP:20220201T190844Z
SUMMARY:W3C Internationalization Working Group Teleconference
DTSTART;TZID=Europe/London:20220203T150000
DTEND;TZID=Europe/London:20220203T160000
DESCRIPTION:https://www.w3.org/events/meetings/5e4758ba-3e80-4e71-b333-5f2c
 4fd95abd/20220203T150000/\n\n\n\nAgenda\n\n=== BE PREPARED ===\n\n=== REMI
 NDER ===\n\nACTION-1109: Everyone check your "awaiting comment resolution"
  reviews.\n\n=== SCRIBE ===\n\nIf you are set to scribe and cannot make it
 \, please send regrets to the chair. Volunteers to act as scribe cheerfull
 y accepted.\n\nFuqiao [2021-12-16]\nBert [2022-01-20]\nAtsushi [2022-01-27
 ]\n\n=== MEETING INFO ===\n\nhttps://www.w3.org/2017/09/i18n-meeting-info.
 html (Member Only Link)\n\n=== AGENDA ===\n\nTopic: Agenda Review\n\nTopic
 : Action Items\nhttp://www.w3.org/International/track/actions/open\n\nTopi
 c: Info Share\n\nTopic: RADAR Review\nhttps://github.com/w3c/i18n-request/
 projects/1\n\nTopic: TAG / ES-402 Explainer\n\nTopic: Specref linking and 
 glossary/specdev\n\nTopic: AOB?
STATUS:CONFIRMED
CREATED:20220201T190843Z
LAST-MODIFIED:20220201T190844Z
SEQUENCE:3
ORGANIZER;CN=W3C Calendar;PARTSTAT=ACCEPTED;ROLE=NON-PARTICIPANT:mailto:nor
 eply@w3.org
ATTENDEE;CUTYPE=GROUP;ROLE=OPT-PARTICIPANT;RSVP=FALSE;CN=Internationalizati
 on Working Group:mailto:public-i18n-core@w3.org
LOCATION:https://www.w3.org/2017/09/i18n-meeting-info.html (Member Only Lin
 k)
RECURRENCE-ID;TZID=Europe/London:20220203T150000
END:VEVENT
BEGIN:VEVENT
UID:5e4758ba-3e80-4e71-b333-5f2c4fd95abd
DTSTAMP:20220208T001313Z
SUMMARY:W3C Internationalization Working Group Teleconference
DTSTART;TZID=Europe/London:20220210T150000
DTEND;TZID=Europe/London:20220210T160000
DESCRIPTION:https://www.w3.org/events/meetings/5e4758ba-3e80-4e71-b333-5f2c
 4fd95abd/20220210T150000/\n\n\n\nAgenda\n\n=== BE PREPARED ===\n\n=== REMI
 NDER ===\n\nReview and comment on the String-Meta explainer\n\nCheck your 
 "awaiting comment resolution" items for closure\n\n=== SCRIBE ===\n\nIf yo
 u are set to scribe and cannot make it\, please send regrets to the chair.
  Volunteers to act as scribe cheerfully accepted.\n\nFuqiao [2021-12-16]\n
 Atsushi [2022-01-13]\nBert [2022-01-20]\nDavid [2022-02-03]\n\n=== MEETING
  INFO ===\n\nhttps://www.w3.org/2017/09/i18n-meeting-info.html (Member Onl
 y Link)\n\n=== AGENDA ===\n\nTopic: Agenda Review\n\nTopic: Action Items\n
 http://www.w3.org/International/track/actions/open\n\nTopic: Info Share\n\
 nTopic: RADAR Review\nhttps://github.com/w3c/i18n-request/projects/1\n\nTo
 pic: Review 'Pending' issues\nhttps://github.com/w3c/i18n-activity/issues?
 q=is%3Aissue+is%3Aopen+label%3Apending\n\nTopic: Explainer for TAG and ES-
 402\n\nTopic: AOB?
STATUS:CONFIRMED
CREATED:20220208T001312Z
LAST-MODIFIED:20220208T001313Z
SEQUENCE:3
ORGANIZER;CN=W3C Calendar;PARTSTAT=ACCEPTED;ROLE=NON-PARTICIPANT:mailto:nor
 eply@w3.org
ATTENDEE;CUTYPE=GROUP;ROLE=OPT-PARTICIPANT;RSVP=FALSE;CN=Internationalizati
 on Working Group:mailto:public-i18n-core@w3.org
LOCATION:https://www.w3.org/2017/09/i18n-meeting-info.html (Member Only Lin
 k)
RECURRENCE-ID;TZID=Europe/London:20220210T150000
END:VEVENT
BEGIN:VEVENT
UID:5e4758ba-3e80-4e71-b333-5f2c4fd95abd
DTSTAMP:20220215T202840Z
SUMMARY:W3C Internationalization Working Group Teleconference
DTSTART;TZID=Europe/London:20220217T150000
DTEND;TZID=Europe/London:20220217T160000
DESCRIPTION:https://www.w3.org/events/meetings/5e4758ba-3e80-4e71-b333-5f2c
 4fd95abd/20220217T150000/\n\n\n\nAgenda\n\n**AGENDA TOPICS FOR THIS CALL**
 \n\n***String-Meta Explainer***\nhttps://github.com/w3c/i18n-discuss/blob/
 gh-pages/explainers/string-meta-explainer.md\n\n***WOT Thing Description R
 eview***\nhttps://github.com/w3c/i18n-activity/issues?q=is%3Aissue+is%3Aop
 en+label%3Apending+label%3As%3Awot-thing-description\n\n***Other Pending I
 ssues review***\nhttps://github.com/w3c/i18n-activity/issues?q=is%3Aissue+
 is%3Aopen+label%3Apending\n\n*BE PREPARED*\n\nRead and comment on the [Str
 ing-meta explainer](https://github.com/w3c/i18n-discuss/blob/gh-pages/expl
 ainers/string-meta-explainer.md)\n\n*REMINDER*\n\nShepherds please review 
 your "Awaiting Comment Resolution" items.\n\n*SCRIBE*\n\nIf you are set to
  scribe and cannot make it\, please send regrets to the chair. Volunteers 
 to act as scribe cheerfully accepted.\n\nFuqiao [2021-12-16]\nAtsushi [202
 2-01-13]\nBert [2022-02-10]\n\n*MEETING INFO*\n\nhttps://www.w3.org/2017/0
 9/i18n-meeting-info.html (Member Only Link)\n\n**Agendabot agenda**\n\nThi
 s section is read by the bot and contains all of our administrivia topics 
 😉\n\nTopic: Agenda Review\nTopic: Action Items\nTopic: Info Share\nTopi
 c: RADAR Review\n\nTopic: String-Meta Explainer\nTopic: WOT Thing Descript
 ion Review\nTopic: Other Pending Issues review\n\nTopic: AOB?\n\n***Chair'
 s Link Farm***\n\n* Tracker: http://www.w3.org/International/track/actions
 /open\n* RADAR: https://github.com/w3c/i18n-request/projects/1 \n* Pending
 : https://github.com/w3c/i18n-activity/issues?q=is%3Aissue+is%3Aopen+label
 %3Apending
STATUS:CONFIRMED
CREATED:20220215T202243Z
LAST-MODIFIED:20220215T202840Z
SEQUENCE:3
ORGANIZER;CN=W3C Calendar;PARTSTAT=ACCEPTED;ROLE=NON-PARTICIPANT:mailto:nor
 eply@w3.org
ATTENDEE;CUTYPE=GROUP;ROLE=OPT-PARTICIPANT;RSVP=FALSE;CN=Internationalizati
 on Working Group:mailto:public-i18n-core@w3.org
LOCATION:https://www.w3.org/2017/09/i18n-meeting-info.html (Member Only Lin
 k)
RECURRENCE-ID;TZID=Europe/London:20220217T150000
END:VEVENT
BEGIN:VEVENT
UID:5e4758ba-3e80-4e71-b333-5f2c4fd95abd
DTSTAMP:20220221T232907Z
SUMMARY:W3C Internationalization Working Group Teleconference
DTSTART;TZID=Europe/London:20220224T150000
DTEND;TZID=Europe/London:20220224T160000
DESCRIPTION:https://www.w3.org/events/meetings/5e4758ba-3e80-4e71-b333-5f2c
 4fd95abd/20220224T150000/\n\n\n\nAgenda\n\n**AGENDA TOPICS FOR THIS CALL**
 \n\n***String-Meta Explainer***\nhttps://github.com/w3c/i18n-discuss/blob/
 gh-pages/explainers/string-meta-explainer.md\n\n***Other Pending Issues re
 view***\nhttps://github.com/w3c/i18n-activity/issues?q=is%3Aissue+is%3Aope
 n+label%3Apending\n\n*BE PREPARED*\n\nRead and comment on the [String-meta
  explainer](https://github.com/w3c/i18n-discuss/blob/gh-pages/explainers/s
 tring-meta-explainer.md)\n\n*REMINDER*\n\nShepherds please review your "Aw
 aiting Comment Resolution" items.\n\n*SCRIBE*\n\nIf you are set to scribe 
 and cannot make it\, please send regrets to the chair. Volunteers to act a
 s scribe cheerfully accepted.\n\nAtsushi [2022-01-13]\nBert [2022-02-10]\n
 Fuqiao [2022-02-17]\n\n*MEETING INFO*\n\nhttps://www.w3.org/2017/09/i18n-m
 eeting-info.html (Member Only Link)\n\n=== AGENDA ===\n\nThis section is r
 ead by the bot and contains all of our administrivia topics 😉. Send add
 itional topics to member-i18n-core@ with agenda+\n\nTopic: Agenda Review\n
 Topic: Action Items\nTopic: Info Share\nTopic: RADAR Review\n\nTopic: Stri
 ng-Meta Explainer\nTopic: WOT Thing Description Review\nTopic: Other Pendi
 ng Issues review\n\nTopic: AOB?\n\n***Chair's Link Farm***\n\nTracker: htt
 p://www.w3.org/International/track/actions/open\n\nRADAR: https://github.c
 om/w3c/i18n-request/projects/1 \n\nPending: https://github.com/w3c/i18n-ac
 tivity/issues?q=is%3Aissue+is%3Aopen+label%3Apending
STATUS:CONFIRMED
CREATED:20220221T232723Z
LAST-MODIFIED:20220221T232907Z
SEQUENCE:3
ORGANIZER;CN=W3C Calendar;PARTSTAT=ACCEPTED;ROLE=NON-PARTICIPANT:mailto:nor
 eply@w3.org
ATTENDEE;CUTYPE=GROUP;ROLE=OPT-PARTICIPANT;RSVP=FALSE;CN=Internationalizati
 on Working Group:mailto:public-i18n-core@w3.org
LOCATION:https://www.w3.org/2017/09/i18n-meeting-info.html (Member Only Lin
 k)
RECURRENCE-ID;TZID=Europe/London:20220224T150000
END:VEVENT
BEGIN:VEVENT
UID:5e4758ba-3e80-4e71-b333-5f2c4fd95abd
DTSTAMP:20220308T152137Z
SUMMARY:W3C Internationalization Working Group Teleconference
DTSTART;TZID=Europe/London:20220303T150000
DTEND;TZID=Europe/London:20220303T160000
DESCRIPTION:https://www.w3.org/events/meetings/5e4758ba-3e80-4e71-b333-5f2c
 4fd95abd/20220303T150000/\n\n\n\nAgenda\n\n**AGENDA TOPICS FOR THIS CALL**
 \n\n***HTML input type=email***\n\n***HTML street address auto-complete***
 \n\n***Web of Things (WOT) #1465***\nhttps://github.com/w3c/i18n-activity/
 issues/1465\n\n***String-Meta Explainer***\nhttps://github.com/w3c/i18n-di
 scuss/blob/gh-pages/explainers/string-meta-explainer.md\n\n*BE PREPARED*\n
 \n* Read and be prepared to discuss [HTML 4986](https://github.com/whatwg/
 html/issues/4986) (auto-complete for street address)\n* Review `input type
 =email` status such as [I18N 607](https://github.com/w3c/i18n-activity/iss
 ues/607)\n\n*REMINDER*\n\nShepherds please review your "Awaiting Comment R
 esolution" items.\n\n*SCRIBE*\n\nIf you are set to scribe and cannot make 
 it\, please send regrets to the chair. Volunteers to act as scribe cheerfu
 lly accepted.\n\nBert [2022-02-10]\nFuqiao [2022-02-17]\nAtsushi [2022-02-
 24]\n\n*MEETING INFO*\n\nhttps://www.w3.org/2017/09/i18n-meeting-info.html
  (Member Only Link)\n\n=== AGENDA ===\n\nThis section is read by the bot a
 nd contains all of our administrivia topics 😉. Send additional topics t
 o member-i18n-core@ with agenda+\n\nTopic: Agenda Review\nTopic: Action It
 ems\nTopic: Info Share\nTopic: RADAR Review\n\nTopic: HTML input type=emai
 l\nTopic: HTML street address auto-complete\nTopic: WOT #1486\n\nTopic: AO
 B?\n\n***Chair's Link Farm***\n\nTracker: http://www.w3.org/International/
 track/actions/open\n\nRADAR: https://github.com/w3c/i18n-request/projects/
 1 \n\nPending: https://github.com/w3c/i18n-activity/issues?q=is%3Aissue+is
 %3Aopen+label%3Apending
STATUS:CONFIRMED
CREATED:20220301T163330Z
LAST-MODIFIED:20220308T152137Z
SEQUENCE:3
ORGANIZER;CN=W3C Calendar;PARTSTAT=ACCEPTED;ROLE=NON-PARTICIPANT:mailto:nor
 eply@w3.org
ATTENDEE;CUTYPE=GROUP;ROLE=OPT-PARTICIPANT;RSVP=FALSE;CN=Internationalizati
 on Working Group:mailto:public-i18n-core@w3.org
LOCATION:https://www.w3.org/2017/09/i18n-meeting-info.html (Member Only Lin
 k)
RECURRENCE-ID;TZID=Europe/London:20220303T150000
END:VEVENT
BEGIN:VEVENT
UID:5e4758ba-3e80-4e71-b333-5f2c4fd95abd
DTSTAMP:20220308T145752Z
SUMMARY:W3C Internationalization Working Group Teleconference
DTSTART;TZID=Europe/London:20220310T150000
DTEND;TZID=Europe/London:20220310T160000
DESCRIPTION:https://www.w3.org/events/meetings/5e4758ba-3e80-4e71-b333-5f2c
 4fd95abd/20220310T150000/\n\n\n\nAgenda\n\n**AGENDA TOPICS FOR THIS CALL**
 \n\n***HTML street address auto-complete***\nhttps://github.com/whatwg/htm
 l/issues/4986\n\n***Review: css-variables***\nhttps://github.com/w3c/i18n-
 activity/issues?q=is%3Aissue+is%3Aopen+label%3Apending+label%3As%3Acss-var
 iables\n\n***Review: css-text***\nhttps://github.com/w3c/i18n-activity/iss
 ues?q=is%3Aissue+is%3Aopen+label%3Apending+label%3As%3Acss-text\n\n*BE PRE
 PARED*\n\n* Read and be prepared to discuss [HTML 4986](https://github.com
 /whatwg/html/issues/4986) (auto-complete for street address)\n\n*REMINDER*
 \n\nShepherds please review your "Awaiting Comment Resolution" items.\n\n*
 SCRIBE*\n\nIf you are set to scribe and cannot make it\, please send regre
 ts to the chair. Volunteers to act as scribe cheerfully accepted.\n\nBert 
 [2022-02-10]\nFuqiao [2022-02-17]\nAtsushi [2022-02-24]\n\n*MEETING INFO*\
 n\nhttps://www.w3.org/2017/09/i18n-meeting-info.html (Member Only Link)\n\
 n=== AGENDA ===\n\nThis section is read by the bot and contains all of our
  administrivia topics 😉. Send additional topics to member-i18n-core@ wi
 th agenda+\n\nTopic: Agenda Review\nTopic: Action Items\nTopic: Info Share
 \nTopic: RADAR Review\n\nTopic: HTML street address auto-complete\nTopic: 
 Review css-variables pending issues\nTopic: Review css-text pending issues
 \n\nTopic: AOB?\n\n***Chair's Link Farm***\n\nTracker: http://www.w3.org/I
 nternational/track/actions/open\n\nRADAR: https://github.com/w3c/i18n-requ
 est/projects/1 \n\nPending: https://github.com/w3c/i18n-activity/issues?q=
 is%3Aissue+is%3Aopen+label%3Apending
STATUS:CONFIRMED
CREATED:20220308T145728Z
LAST-MODIFIED:20220308T145752Z
SEQUENCE:3
ORGANIZER;CN=W3C Calendar;PARTSTAT=ACCEPTED;ROLE=NON-PARTICIPANT:mailto:nor
 eply@w3.org
ATTENDEE;CUTYPE=GROUP;ROLE=OPT-PARTICIPANT;RSVP=FALSE;CN=Internationalizati
 on Working Group:mailto:public-i18n-core@w3.org
LOCATION:https://www.w3.org/2017/09/i18n-meeting-info.html (Member Only Lin
 k)
RECURRENCE-ID;TZID=Europe/London:20220310T150000
END:VEVENT
BEGIN:VEVENT
UID:5e4758ba-3e80-4e71-b333-5f2c4fd95abd
DTSTAMP:20220315T144958Z
SUMMARY:W3C Internationalization Working Group Teleconference
DTSTART;TZID=Europe/London:20220317T150000
DTEND;TZID=Europe/London:20220317T160000
DESCRIPTION:https://www.w3.org/events/meetings/5e4758ba-3e80-4e71-b333-5f2c
 4fd95abd/20220317T150000/\n\n\n\nAgenda\n\n### Response to TAG\nhttps://gi
 thub.com/w3ctag/design-reviews/issues/716\n\n### CSS Text pending issues\n
 https://github.com/w3c/i18n-activity/issues?q=is%3Aissue+is%3Aopen+label%3
 Apending+label%3As%3Acss-text\n\n### Specdev PR#61 (requirements for ident
 ifiers)\nhttps://github.com/w3c/bp-i18n-specdev/pull/61\nhttps://pr-previe
 w.s3.amazonaws.com/aphillips/bp-i18n-specdev/pull/61.html#markup_identifie
 rs\n\n=== BE PREPARED ===\n\n=== REMINDER ===\n\n**Daylight Savings/Summer
  Time** changes in your local time zone may affect the wall time of this m
 eeting. This meeting is scheduled in the `Europe/London` time zone!! For a
 ttendees in North America\, this meeting will be one hour later that usual
 .\n\n=== SCRIBE ===\n\nIf you are set to scribe and cannot make it\, pleas
 e send regrets to the chair. Volunteers to act as scribe cheerfully accept
 ed.\n\nFuqiao\nFelix\nBert [2022-01-20]\nAtsushi [2022-03-10]\n\n=== MEETI
 NG INFO ===\n\nhttps://www.w3.org/2017/09/i18n-meeting-info.html (Member O
 nly Link)\n\n=== AGENDA ===\n\nTopic: Agenda Review\n\nTopic: Action Items
 \nhttp://www.w3.org/International/track/actions/open\n\nTopic: Info Share\
 n\nTopic: RADAR Review\nhttps://github.com/w3c/i18n-request/projects/1\n\n
 Topic: Response to TAG\nhttps://github.com/w3ctag/design-reviews/issues/71
 6\n\nTopic: CSS Text pending issues\nhttps://github.com/w3c/i18n-activity/
 issues?q=is%3Aissue+is%3Aopen+label%3Apending+label%3As%3Acss-text\n\nTopi
 c: Specdev PR#61 (requirements for identifiers)\nhttps://github.com/w3c/bp
 -i18n-specdev/pull/61\nhttps://pr-preview.s3.amazonaws.com/aphillips/bp-i1
 8n-specdev/pull/61.html#markup_identifiers\n\nTopic: AOB?\n\n=== Chair's L
 ink Farm ===\nhttps://www.w3.org/International/track/actions/open\nhttps:/
 /github.com/w3c/i18n-request/projects/1\nhttps://github.com/w3c/i18n-activ
 ity/issues?q=is%3Aissue+is%3Aopen+label%3Apending
STATUS:CONFIRMED
CREATED:20220315T144404Z
LAST-MODIFIED:20220315T144958Z
SEQUENCE:3
ORGANIZER;CN=W3C Calendar;PARTSTAT=ACCEPTED;ROLE=NON-PARTICIPANT:mailto:nor
 eply@w3.org
ATTENDEE;CUTYPE=GROUP;ROLE=OPT-PARTICIPANT;RSVP=FALSE;CN=Internationalizati
 on Working Group:mailto:public-i18n-core@w3.org
LOCATION:https://www.w3.org/2017/09/i18n-meeting-info.html (Member Only Lin
 k)
RECURRENCE-ID;TZID=Europe/London:20220317T150000
END:VEVENT
END:VCALENDAR
