BEGIN:VCALENDAR
VERSION:2.0
PRODID:-//Sabre//Sabre VObject 4.5.8//EN
CALSCALE:GREGORIAN
LAST-MODIFIED:20210512T212847Z
BEGIN:VTIMEZONE
TZID:America/Los_Angeles
X-MICROSOFT-CDO-TZID:13
BEGIN:STANDARD
DTSTART:20201101T090000
TZOFFSETFROM:-0700
TZOFFSETTO:-0800
TZNAME:PST
END:STANDARD
BEGIN:STANDARD
DTSTART:20211107T090000
TZOFFSETFROM:-0700
TZOFFSETTO:-0800
TZNAME:PST
END:STANDARD
BEGIN:DAYLIGHT
DTSTART:20210314T100000
TZOFFSETFROM:-0800
TZOFFSETTO:-0700
TZNAME:PDT
END:DAYLIGHT
END:VTIMEZONE
BEGIN:VEVENT
UID:5e3840d7-d47a-4325-b881-d28711b658f8
DTSTAMP:20210512T212847Z
SUMMARY:ARIA Deep Dive: Data Visualization part 2
DTSTART;TZID=America/Los_Angeles:20210513T090000
DTEND;TZID=America/Los_Angeles:20210513T095000
DESCRIPTION:https://www.w3.org/events/meetings/5e3840d7-d47a-4325-b881-d287
 11b658f8/\n\n\n\nAgenda\n\nPlease let me know any more specific topics for
  the agenda and I will add them.\n\nPart 2 - discussing Data Visualization
  and accessibility\n\nMinutes from previous meeting: https://www.w3.org/20
 21/04/22-aria-dive-minutes.html
STATUS:CONFIRMED
CREATED:20210428T232629Z
LAST-MODIFIED:20210512T212847Z
SEQUENCE:1
ORGANIZER;CN=W3C Calendar;PARTSTAT=ACCEPTED;ROLE=NON-PARTICIPANT:mailto:nor
 eply@w3.org
ATTENDEE;CUTYPE=GROUP;ROLE=OPT-PARTICIPANT;RSVP=FALSE;CN=Accessible Rich In
 ternet Applications Working Group:mailto:public-aria@w3.org
END:VEVENT
END:VCALENDAR
