BEGIN:VCALENDAR
VERSION:2.0
PRODID:-//Sabre//Sabre VObject 4.5.8//EN
CALSCALE:GREGORIAN
LAST-MODIFIED:20250415T153852Z
BEGIN:VTIMEZONE
TZID:Europe/Berlin
X-MICROSOFT-CDO-TZID:4
BEGIN:STANDARD
DTSTART:20241027T010000
TZOFFSETFROM:+0200
TZOFFSETTO:+0100
TZNAME:CET
END:STANDARD
BEGIN:STANDARD
DTSTART:20251026T010000
TZOFFSETFROM:+0200
TZOFFSETTO:+0100
TZNAME:CET
END:STANDARD
BEGIN:DAYLIGHT
DTSTART:20250330T010000
TZOFFSETFROM:+0100
TZOFFSETTO:+0200
TZNAME:CEST
END:DAYLIGHT
END:VTIMEZONE
BEGIN:VEVENT
UID:5db757dd-664b-4b78-a962-bd14e713c899
DTSTAMP:20250415T153852Z
SUMMARY:W3C Docs CG kickoff
DTSTART;TZID=Europe/Berlin:20250422T170000
DTEND;TZID=Europe/Berlin:20250422T180000
DESCRIPTION:https://www.w3.org/events/meetings/5db757dd-664b-4b78-a962-bd14
 e713c899/\n\nWelcome to the W3C Docs CG!\n\nWe'll have an initial kickoff 
 call. https://github.com/w3c-cg/webdocs/blob/main/meetings/2025-04-22.md\n
 \nAgenda: https://github.com/w3c-cg/webdocs/blob/main/meetings/2025-04-22.
 md
STATUS:CONFIRMED
CREATED:20250415T153852Z
LAST-MODIFIED:20250415T153852Z
SEQUENCE:0
ORGANIZER;CN=W3C Calendar;PARTSTAT=ACCEPTED;ROLE=NON-PARTICIPANT:mailto:nor
 eply@w3.org
ATTENDEE;CUTYPE=GROUP;ROLE=OPT-PARTICIPANT;RSVP=FALSE;CN=Documentation Comm
 unity Group:mailto:public-docs-cg@w3.org
END:VEVENT
END:VCALENDAR
