BEGIN:VCALENDAR
VERSION:2.0
PRODID:-//Sabre//Sabre VObject 4.5.8//EN
CALSCALE:GREGORIAN
LAST-MODIFIED:20240606T170514Z
BEGIN:VTIMEZONE
TZID:America/New_York
X-MICROSOFT-CDO-TZID:10
BEGIN:STANDARD
DTSTART:20231105T060000
TZOFFSETFROM:-0400
TZOFFSETTO:-0500
TZNAME:EST
END:STANDARD
BEGIN:STANDARD
DTSTART:20241103T060000
TZOFFSETFROM:-0400
TZOFFSETTO:-0500
TZNAME:EST
END:STANDARD
BEGIN:DAYLIGHT
DTSTART:20240310T070000
TZOFFSETFROM:-0500
TZOFFSETTO:-0400
TZNAME:EDT
END:DAYLIGHT
END:VTIMEZONE
BEGIN:VEVENT
UID:5cefd6e5-520b-451b-b38c-4613011b74b8
DTSTAMP:20240606T170514Z
SUMMARY:Forum/Threaded Discussions Task Force Meeting
DTSTART;TZID=America/New_York:20240502T130000
DTEND;TZID=America/New_York:20240502T140000
DESCRIPTION:https://www.w3.org/events/meetings/5cefd6e5-520b-451b-b38c-4613
 011b74b8/20240502T130000/\n\nPlease join us for the Forum/Threaded Discuss
 ions Task Force Meeting monthly meeting\, on the first Thursday of each mo
 nth\, at 1700 to 1800 UTC.\n\nInformation gathering prior to the meeting w
 ill be held asynchronously via the fediverse\, with topics posted on one o
 f the following two locations:\n\nhttps://community.nodebb.org/category/31
 /threadiverse-working-group\nhttps://socialhub.activitypub.rocks/c/meeting
 /threadiverse-wg/88\n\nThe two locations will be federating their content 
 outwards\, and the topics are synced\, and so either category can be reach
 ed on the fediverse via the following handles\, respectively:\n\n@swicg-th
 readiverse-wg@community.nodebb.org\n@threadiverse-wg@socialhub.activitypub
 .rocks\n\nJoining Instructions: https://meet.jit.si/moderated/9c481833cd57
 ccddab05ac977217ca5db63a209fbfee3f82b1627d4e0548190b
STATUS:CONFIRMED
CREATED:20240503T013044Z
LAST-MODIFIED:20240606T170514Z
SEQUENCE:1
ORGANIZER;CN=W3C Calendar;PARTSTAT=ACCEPTED;ROLE=NON-PARTICIPANT:mailto:nor
 eply@w3.org
ATTENDEE;CUTYPE=GROUP;ROLE=OPT-PARTICIPANT;RSVP=FALSE;CN=Social Web Incubat
 or Community Group:mailto:public-swicg@w3.org
LOCATION:https://meet.jit.si/moderated/9c481833cd57ccddab05ac977217ca5db63a
 209fbfee3f82b1627d4e0548190b
RECURRENCE-ID;TZID=America/New_York:20240502T130000
END:VEVENT
END:VCALENDAR
