BEGIN:VCALENDAR
VERSION:2.0
PRODID:-//Sabre//Sabre VObject 4.5.8//EN
CALSCALE:GREGORIAN
LAST-MODIFIED:20251112T025103Z
BEGIN:VTIMEZONE
TZID:Asia/Tokyo
X-MICROSOFT-CDO-TZID:20
BEGIN:STANDARD
DTSTART:20241118T044500
TZOFFSETFROM:+0900
TZOFFSETTO:+0900
TZNAME:JST
END:STANDARD
END:VTIMEZONE
BEGIN:VEVENT
UID:5ce4d187-2916-4efc-9c22-5650e1794105
DTSTAMP:20251112T025103Z
SUMMARY:Social Web Incubator Community Group
DTSTART;TZID=Asia/Tokyo:20251113T134500
DTEND;TZID=Asia/Tokyo:20251113T150000
DESCRIPTION:https://www.w3.org/events/meetings/5ce4d187-2916-4efc-9c22-5650
 e1794105/\n\n
STATUS:CANCELLED
CREATED:20250716T142414Z
LAST-MODIFIED:20251112T025103Z
SEQUENCE:9
ORGANIZER;CN=W3C Calendar;PARTSTAT=ACCEPTED;ROLE=NON-PARTICIPANT:mailto:nor
 eply@w3.org
ATTENDEE;CUTYPE=GROUP;ROLE=OPT-PARTICIPANT;RSVP=FALSE;CN=Social Web Incubat
 or Community Group:mailto:public-swicg@w3.org
LOCATION:Floor 3 - 306
CATEGORIES:TPAC 2025,Group Meetings
END:VEVENT
END:VCALENDAR
