BEGIN:VCALENDAR
VERSION:2.0
PRODID:-//Sabre//Sabre VObject 4.5.8//EN
CALSCALE:GREGORIAN
LAST-MODIFIED:20220628T133105Z
BEGIN:VTIMEZONE
TZID:Etc/UTC
BEGIN:STANDARD
DTSTART:20210628T140000
TZOFFSETFROM:+0000
TZOFFSETTO:+0000
TZNAME:UTC
END:STANDARD
END:VTIMEZONE
BEGIN:VEVENT
UID:5cdd4b2c-788d-49f1-97ab-95975b03f5de
DTSTAMP:20220628T133105Z
SUMMARY:WebRTC WG June 2022 call
DTSTART;TZID=Etc/UTC:20220623T140000
DTEND;TZID=Etc/UTC:20220623T160000
DESCRIPTION:https://www.w3.org/events/meetings/5cdd4b2c-788d-49f1-97ab-9597
 5b03f5de/\n\n\n\nAgenda: https://www.w3.org/2011/04/webrtc/wiki/June_23_20
 22
STATUS:CONFIRMED
CREATED:20220328T072336Z
LAST-MODIFIED:20220628T133105Z
SEQUENCE:4
ORGANIZER;CN=W3C Calendar;PARTSTAT=ACCEPTED;ROLE=NON-PARTICIPANT:mailto:nor
 eply@w3.org
ATTENDEE;CUTYPE=GROUP;ROLE=OPT-PARTICIPANT;RSVP=FALSE;CN=Web Real-Time Comm
 unications Working Group:mailto:public-webrtc@w3.org
END:VEVENT
END:VCALENDAR
