BEGIN:VCALENDAR
VERSION:2.0
PRODID:-//Sabre//Sabre VObject 4.5.8//EN
CALSCALE:GREGORIAN
LAST-MODIFIED:20260219T061247Z
BEGIN:VTIMEZONE
TZID:Asia/Tokyo
X-MICROSOFT-CDO-TZID:20
BEGIN:STANDARD
DTSTART:20241117T071500
TZOFFSETFROM:+0900
TZOFFSETTO:+0900
TZNAME:JST
END:STANDARD
END:VTIMEZONE
BEGIN:VEVENT
UID:5c9ab1dc-8be0-47ff-8012-c925b553d243
DTSTAMP:20260219T061247Z
SUMMARY:Isolated Web Apps - Current state and future direction
DTSTART;TZID=Asia/Tokyo:20251112T161500
DTEND;TZID=Asia/Tokyo:20251112T171500
DESCRIPTION:https://www.w3.org/events/meetings/5c9ab1dc-8be0-47ff-8012-c925
 b553d243/\n\n[Isolated contexts](https://wicg.github.io/isolated-web-apps/
 isolated-contexts.html) (and their implementation in Chrome\, [Isolated We
 b Apps](https://chromeos.dev/en/web/isolated-web-apps)) have been launched
  In ChromeOS since 2024\, together with a few powerful APIs:\n* [Direct So
 ckets](https://wicg.github.io/direct-sockets/)\n* [Controlled Frame](https
 ://wicg.github.io/controlled-frame/)\n* [Multiscreen Capture](https://scre
 en-share.github.io/capture-all-screens/)\n* [Web Smart Cards](https://wicg
 .github.io/web-smart-card/)\n\nThe objective of this session is to provide
  a comprehensive overview of the platform's current state and present our 
 vision for its future development.\n\n**Goal(s):**\nSummarize the current 
 state of Isolated Web Apps in Chrome\, sketch where we are heading and eng
 age with other browser vendors\n\nAgenda\n\n* Present the current state an
 d future direction\n* Open discussion and feedback\n\n**Materials:**\n- [S
 ession proposal on GitHub](https://github.com/w3c/tpac2025-breakouts/issue
 s/53)
STATUS:CONFIRMED
CREATED:20251028T131342Z
LAST-MODIFIED:20260219T061247Z
SEQUENCE:3
ORGANIZER;CN=W3C Calendar;PARTSTAT=ACCEPTED;ROLE=NON-PARTICIPANT:mailto:nor
 eply@w3.org
LOCATION:Floor 4 - 406
CATEGORIES:TPAC 2025,Breakout Sessions
END:VEVENT
END:VCALENDAR
