BEGIN:VCALENDAR
VERSION:2.0
PRODID:-//Sabre//Sabre VObject 4.5.8//EN
CALSCALE:GREGORIAN
LAST-MODIFIED:20240924T190555Z
BEGIN:VTIMEZONE
TZID:America/Los_Angeles
X-MICROSOFT-CDO-TZID:13
BEGIN:STANDARD
DTSTART:20231105T090000
TZOFFSETFROM:-0700
TZOFFSETTO:-0800
TZNAME:PST
END:STANDARD
BEGIN:STANDARD
DTSTART:20241103T090000
TZOFFSETFROM:-0700
TZOFFSETTO:-0800
TZNAME:PST
END:STANDARD
BEGIN:DAYLIGHT
DTSTART:20240310T100000
TZOFFSETFROM:-0800
TZOFFSETTO:-0700
TZNAME:PDT
END:DAYLIGHT
END:VTIMEZONE
BEGIN:VEVENT
UID:5c40f321-6905-4690-9d10-3bd09c5313f0
DTSTAMP:20240924T190555Z
SUMMARY:Media and Entertainment Interest Group
DTSTART;TZID=America/Los_Angeles:20240923T090000
DTEND;TZID=America/Los_Angeles:20240923T103000
DESCRIPTION:https://www.w3.org/events/meetings/5c40f321-6905-4690-9d10-3bd0
 9c5313f0/\n\n\n\nAgenda: https://github.com/w3c/media-and-entertainment/is
 sues/109
STATUS:CONFIRMED
CREATED:20240614T161734Z
LAST-MODIFIED:20240924T190555Z
SEQUENCE:6
ORGANIZER;CN=W3C Calendar;PARTSTAT=ACCEPTED;ROLE=NON-PARTICIPANT:mailto:nor
 eply@w3.org
ATTENDEE;CUTYPE=GROUP;ROLE=OPT-PARTICIPANT;RSVP=FALSE;CN=Media and Entertai
 nment Interest Group:mailto:public-web-and-tv@w3.org
LOCATION:4 Concourse Level - San Clemente
CATEGORIES:TPAC 2024,Group Meetings
END:VEVENT
END:VCALENDAR
