BEGIN:VCALENDAR
VERSION:2.0
PRODID:-//Sabre//Sabre VObject 4.5.8//EN
CALSCALE:GREGORIAN
LAST-MODIFIED:20260219T074350Z
BEGIN:VTIMEZONE
TZID:Asia/Tokyo
X-MICROSOFT-CDO-TZID:20
BEGIN:STANDARD
DTSTART:20241115T080000
TZOFFSETFROM:+0900
TZOFFSETTO:+0900
TZNAME:JST
END:STANDARD
END:VTIMEZONE
BEGIN:VEVENT
UID:5c2a1848-9508-4948-a9f8-74757796d6b7
DTSTAMP:20260219T074350Z
SUMMARY:Publication tooling
DTSTART;TZID=Asia/Tokyo:20251110T170000
DTEND;TZID=Asia/Tokyo:20251110T180000
DESCRIPTION:https://www.w3.org/events/meetings/5c2a1848-9508-4948-a9f8-7475
 7796d6b7/\n\nThis breakout will be divided into two parts:\n* Part 1: Exte
 rnal Metadata Integration — How ReSpec and Bikeshed could leverage share
 d metadata files (e.g. JSON files) to provide more details on the future o
 f the specification. We'll discuss practical approaches to linking externa
 l data sources and improving maintainability. The use case mainly comes fr
 om the [revamp of the CG program](https://github.com/w3c/tpac2025-breakout
 s/issues/41) but there may be other needs.\n* Part 2: Bikeshed support in 
 spec-generator — We are looking at adding bikeshed support to [spec-gene
 rator](https://labs.w3.org/spec-generator/). We will present a demo and di
 scuss what we are missing to replace [the service from csswg.org](https://
 api.csswg.org/bikeshed/).\n\n@tabatkins\, @marcoscaceres\, @sidvishnoi\, @
 kfranqueiro\, @dontcallmedom\, @tidoust\, @vivienlacourba  👋\n\n**Goal(
 s):**\nThis breakout is intended to be a collaborative session and gather 
 feedback.\n\nAgenda\n\n**Materials:**\n- [slides](https://www.w3.org/Talks
 /2025/dak-publication-tools/)\n- [Session proposal on GitHub](https://gith
 ub.com/w3c/tpac2025-breakouts/issues/85)
STATUS:CONFIRMED
CREATED:20251104T144834Z
LAST-MODIFIED:20260219T074350Z
SEQUENCE:1
ORGANIZER;CN=W3C Calendar;PARTSTAT=ACCEPTED;ROLE=NON-PARTICIPANT:mailto:nor
 eply@w3.org
LOCATION:Floor 4 - 404
CATEGORIES:TPAC 2025,Breakout Sessions
END:VEVENT
END:VCALENDAR
