BEGIN:VCALENDAR
VERSION:2.0
PRODID:-//Sabre//Sabre VObject 4.5.8//EN
CALSCALE:GREGORIAN
LAST-MODIFIED:20260218T140118Z
BEGIN:VTIMEZONE
TZID:Etc/UTC
BEGIN:STANDARD
DTSTART:20250223T160000
TZOFFSETFROM:+0000
TZOFFSETTO:+0000
TZNAME:UTC
END:STANDARD
END:VTIMEZONE
BEGIN:VEVENT
UID:5bd1498d-e048-4b61-9c77-a12124478a48
DTSTAMP:20260218T140118Z
SUMMARY:Community Group Program CG Meeting
DTSTART;TZID=Etc/UTC:20260218T160000
DTEND;TZID=Etc/UTC:20260218T170000
DESCRIPTION:https://www.w3.org/events/meetings/5bd1498d-e048-4b61-9c77-a121
 24478a48/\n\n
STATUS:TENTATIVE
CREATED:20251204T190759Z
LAST-MODIFIED:20260218T140118Z
SEQUENCE:1
ORGANIZER;CN=W3C Calendar;PARTSTAT=ACCEPTED;ROLE=NON-PARTICIPANT:mailto:nor
 eply@w3.org
ATTENDEE;CUTYPE=GROUP;ROLE=OPT-PARTICIPANT;RSVP=FALSE;CN=Community Group Pr
 ogram Community Group:mailto:public-council@w3.org
END:VEVENT
END:VCALENDAR
