BEGIN:VCALENDAR
VERSION:2.0
PRODID:-//Sabre//Sabre VObject 4.5.8//EN
CALSCALE:GREGORIAN
LAST-MODIFIED:20251113T224324Z
BEGIN:VTIMEZONE
TZID:Asia/Tokyo
X-MICROSOFT-CDO-TZID:20
BEGIN:STANDARD
DTSTART:20241119T073000
TZOFFSETFROM:+0900
TZOFFSETTO:+0900
TZNAME:JST
END:STANDARD
END:VTIMEZONE
BEGIN:VEVENT
UID:5b6d7ac3-4382-4fb5-85b9-10a10876f5c3
DTSTAMP:20251113T224324Z
SUMMARY:WHATWG\, Internationalization WG\, Accessible Platform Architecture
 s WG joint meeting
DTSTART;TZID=Asia/Tokyo:20251114T163000
DTEND;TZID=Asia/Tokyo:20251114T180000
DESCRIPTION:https://www.w3.org/events/meetings/5b6d7ac3-4382-4fb5-85b9-10a1
 0876f5c3/\n\n\n\nAgenda\n\n- https://github.com/w3c/html-ruby/issues/24\n-
  [DOM Localization](https://www.w3.org/2025/11/10-dom-localization-minutes
 .html)\n- [Message Resources](https://github.com/w3c/i18n-discuss/blob/gh-
 pages/explainers/message-resources.md)
STATUS:CONFIRMED
CREATED:20250716T142723Z
LAST-MODIFIED:20251113T224324Z
SEQUENCE:7
ORGANIZER;CN=W3C Calendar;PARTSTAT=ACCEPTED;ROLE=NON-PARTICIPANT:mailto:nor
 eply@w3.org
ATTENDEE;CUTYPE=GROUP;ROLE=OPT-PARTICIPANT;RSVP=FALSE;CN=Accessible Platfor
 m Architectures Working Group:mailto:public-apa@w3.org
ATTENDEE;CUTYPE=GROUP;ROLE=OPT-PARTICIPANT;RSVP=FALSE;CN=Internationalizati
 on Working Group:mailto:public-i18n-core@w3.org
LOCATION:Floor 5 - 503
CATEGORIES:TPAC 2025,Group Meetings
END:VEVENT
END:VCALENDAR
