BEGIN:VCALENDAR
VERSION:2.0
PRODID:-//Sabre//Sabre VObject 4.5.8//EN
CALSCALE:GREGORIAN
LAST-MODIFIED:20250312T102715Z
BEGIN:VTIMEZONE
TZID:Europe/Zurich
BEGIN:DAYLIGHT
DTSTART:20240331T010000
TZOFFSETFROM:+0100
TZOFFSETTO:+0200
TZNAME:CEST
END:DAYLIGHT
BEGIN:DAYLIGHT
DTSTART:20250330T010000
TZOFFSETFROM:+0100
TZOFFSETTO:+0200
TZNAME:CEST
END:DAYLIGHT
BEGIN:STANDARD
DTSTART:20241027T010000
TZOFFSETFROM:+0200
TZOFFSETTO:+0100
TZNAME:CET
END:STANDARD
END:VTIMEZONE
BEGIN:VEVENT
UID:5a77b997-467b-4d5d-bb40-b84789c17d2e
DTSTAMP:20250312T102715Z
SUMMARY:Joint WebAgents\, WoT CG and WebThing Protocol CG - BiWeekly Call o
 f WebAgents CG - Meetup 25 WoT CG
DTSTART;TZID=Europe/Zurich:20250314T090000
DTEND;TZID=Europe/Zurich:20250314T100000
DESCRIPTION:https://www.w3.org/events/meetings/5a77b997-467b-4d5d-bb40-b847
 89c17d2e/20250314T090000/\n\nIn this special session\, we have three commu
 nity groups joining for a presentation by Robert Winkler from Deutsche Tel
 ekom on the [Eclipse LMOS project](https://eclipse.dev/lmos/). It will fol
 low the meetup style of the WoT CG. We will start by introducing the speak
 er\, then the presentation will be held (and recorded). After that\, we wi
 ll have a Q&A session (not recorded). \n\nNote: Please create a W3C accoun
 t and join one of the groups to see the meeting link!\n\nFor more informat
 ion about regular meetings\, see the [Web Agents wiki](https://github.com/
 w3c-cg/webagents/wiki/Regular-CG-Meetings).\n\nAgenda: https://github.com/
 w3c-cg/webagents/wiki/Regular-CG-Meetings
STATUS:CONFIRMED
CREATED:20250307T153636Z
LAST-MODIFIED:20250312T102715Z
SEQUENCE:0
ORGANIZER;CN=W3C Calendar;PARTSTAT=ACCEPTED;ROLE=NON-PARTICIPANT:mailto:nor
 eply@w3.org
ATTENDEE;CUTYPE=GROUP;ROLE=OPT-PARTICIPANT;RSVP=FALSE;CN=Autonomous Agents 
 on the Web Community Group:mailto:public-webagents@w3.org
ATTENDEE;CUTYPE=GROUP;ROLE=OPT-PARTICIPANT;RSVP=FALSE;CN=Web of Things Comm
 unity Group:mailto:public-web-of-things@w3.org
ATTENDEE;CUTYPE=GROUP;ROLE=OPT-PARTICIPANT;RSVP=FALSE;CN=Web Thing Protocol
  Community Group:mailto:public-web-thing-protocol@w3.org
RECURRENCE-ID;TZID=Europe/Zurich:20250314T090000
END:VEVENT
END:VCALENDAR
