BEGIN:VCALENDAR
VERSION:2.0
PRODID:-//Sabre//Sabre VObject 4.5.8//EN
CALSCALE:GREGORIAN
LAST-MODIFIED:20230907T003402Z
BEGIN:VTIMEZONE
TZID:Europe/Madrid
BEGIN:STANDARD
DTSTART:20221030T010000
TZOFFSETFROM:+0200
TZOFFSETTO:+0100
TZNAME:CET
END:STANDARD
BEGIN:STANDARD
DTSTART:20231029T010000
TZOFFSETFROM:+0200
TZOFFSETTO:+0100
TZNAME:CET
END:STANDARD
BEGIN:DAYLIGHT
DTSTART:20230326T010000
TZOFFSETFROM:+0100
TZOFFSETTO:+0200
TZNAME:CEST
END:DAYLIGHT
END:VTIMEZONE
BEGIN:VEVENT
UID:5a44a02b-0ca2-4631-a90f-e957b4033a9b
DTSTAMP:20230907T003402Z
SUMMARY:Accessibility Education and Outreach WG
DTSTART;TZID=Europe/Madrid:20230914T093000
DTEND;TZID=Europe/Madrid:20230914T183000
DESCRIPTION:https://www.w3.org/events/meetings/5a44a02b-0ca2-4631-a90f-e957
 b4033a9b/\n\n\n\nAgenda: https://www.w3.org/WAI/EO/wiki/EOWG_F2F_September
 _2023#EOWG_Work_Sessions
STATUS:CONFIRMED
CREATED:20230611T130108Z
LAST-MODIFIED:20230907T003402Z
SEQUENCE:1
ORGANIZER;CN=W3C Calendar;PARTSTAT=ACCEPTED;ROLE=NON-PARTICIPANT:mailto:nor
 eply@w3.org
ATTENDEE;CUTYPE=GROUP;ROLE=OPT-PARTICIPANT;RSVP=FALSE;CN=Accessibility Educ
 ation and Outreach Working Group (EOWG):mailto:w3c-wai-eo@w3.org
LOCATION:Lebrija\, 1st floor
CATEGORIES:TPAC 2023,Group Meetings
END:VEVENT
END:VCALENDAR
