BEGIN:VCALENDAR
VERSION:2.0
PRODID:-//Sabre//Sabre VObject 4.5.8//EN
CALSCALE:GREGORIAN
LAST-MODIFIED:20250923T171056Z
BEGIN:VTIMEZONE
TZID:America/New_York
X-MICROSOFT-CDO-TZID:10
BEGIN:STANDARD
DTSTART:20241103T060000
TZOFFSETFROM:-0400
TZOFFSETTO:-0500
TZNAME:EST
END:STANDARD
BEGIN:STANDARD
DTSTART:20251102T060000
TZOFFSETFROM:-0400
TZOFFSETTO:-0500
TZNAME:EST
END:STANDARD
BEGIN:DAYLIGHT
DTSTART:20250309T070000
TZOFFSETFROM:-0500
TZOFFSETTO:-0400
TZNAME:EDT
END:DAYLIGHT
END:VTIMEZONE
BEGIN:VEVENT
UID:5a155237-d896-464b-9c5f-6dd1654293ae
DTSTAMP:20250923T171056Z
SUMMARY:ARIA Working Group weekly meeting
DTSTART;TZID=America/New_York:20250925T130000
DTEND;TZID=America/New_York:20250925T140000
DESCRIPTION:https://www.w3.org/events/meetings/5a155237-d896-464b-9c5f-6dd1
 654293ae/20250925T130000/\n\n\n\nAgenda\n\n* [New PR Triage](https://githu
 b.com/search?q=is%3Aopen+is%3Apr+created:%3E=2025-09-18+repo:w3c/aria&type
 =Issues)\n* [WPT Open PRs](https://bit.ly/wpt_a11y)\n* [TPAC planning](htt
 ps://tinyurl.com/ariaf2fcandidate)\n\n* [Custom Elements with Button Activ
 ation Behaviors](https://github.com/w3c/aria/issues/2637)\n* [The set of r
 oles that can serve as an OrderedSet container is not clear](https://githu
 b.com/w3c/aria/issues/2634)\n* [[aria-valuenow]: default to native value w
 hen one exists](https://github.com/w3c/aria/issues/2631)
STATUS:CONFIRMED
CREATED:20250923T171055Z
LAST-MODIFIED:20250923T171056Z
SEQUENCE:0
ORGANIZER;CN=W3C Calendar;PARTSTAT=ACCEPTED;ROLE=NON-PARTICIPANT:mailto:nor
 eply@w3.org
ATTENDEE;CUTYPE=GROUP;ROLE=OPT-PARTICIPANT;RSVP=FALSE;CN=Accessible Rich In
 ternet Applications Working Group:mailto:public-aria@w3.org
RECURRENCE-ID;TZID=America/New_York:20250925T130000
END:VEVENT
END:VCALENDAR
