BEGIN:VCALENDAR
VERSION:2.0
PRODID:-//Sabre//Sabre VObject 4.5.8//EN
CALSCALE:GREGORIAN
LAST-MODIFIED:20250911T164455Z
BEGIN:VTIMEZONE
TZID:America/New_York
X-MICROSOFT-CDO-TZID:10
BEGIN:STANDARD
DTSTART:20241103T060000
TZOFFSETFROM:-0400
TZOFFSETTO:-0500
TZNAME:EST
END:STANDARD
BEGIN:STANDARD
DTSTART:20251102T060000
TZOFFSETFROM:-0400
TZOFFSETTO:-0500
TZNAME:EST
END:STANDARD
BEGIN:DAYLIGHT
DTSTART:20250309T070000
TZOFFSETFROM:-0500
TZOFFSETTO:-0400
TZNAME:EDT
END:DAYLIGHT
END:VTIMEZONE
BEGIN:VEVENT
UID:5a155237-d896-464b-9c5f-6dd1654293ae
DTSTAMP:20250911T164455Z
SUMMARY:ARIA Working Group weekly meeting
DTSTART;TZID=America/New_York:20250911T130000
DTEND;TZID=America/New_York:20250911T140000
DESCRIPTION:https://www.w3.org/events/meetings/5a155237-d896-464b-9c5f-6dd1
 654293ae/20250911T130000/\n\n\n\nAgenda\n\n* [New PR Triage](https://githu
 b.com/search?q=is%3Aopen+is%3Apr+created:%3E=2025-09-04+repo:w3c/aria&type
 =Issues)\n* [WPT Open PRs](https://bit.ly/wpt_a11y)\n* [TPAC Planning](htt
 ps://tinyurl.com/ariaf2fcandidate)\n* [feat: aria-actions addition to the 
 ARIA spec](https://github.com/w3c/aria/pull/1805)\n* [aria-keyshortcuts: D
 o multiple shortcuts define a set of alternatives\, or a single sequence?]
 (https://github.com/w3c/aria/issues/2578)
STATUS:CONFIRMED
CREATED:20250909T171722Z
LAST-MODIFIED:20250911T164455Z
SEQUENCE:0
ORGANIZER;CN=W3C Calendar;PARTSTAT=ACCEPTED;ROLE=NON-PARTICIPANT:mailto:nor
 eply@w3.org
ATTENDEE;CUTYPE=GROUP;ROLE=OPT-PARTICIPANT;RSVP=FALSE;CN=Accessible Rich In
 ternet Applications Working Group:mailto:public-aria@w3.org
RECURRENCE-ID;TZID=America/New_York:20250911T130000
END:VEVENT
END:VCALENDAR
