BEGIN:VCALENDAR
VERSION:2.0
PRODID:-//Sabre//Sabre VObject 4.5.8//EN
CALSCALE:GREGORIAN
LAST-MODIFIED:20250213T180525Z
BEGIN:VTIMEZONE
TZID:America/New_York
X-MICROSOFT-CDO-TZID:10
BEGIN:DAYLIGHT
DTSTART:20240310T070000
TZOFFSETFROM:-0500
TZOFFSETTO:-0400
TZNAME:EDT
END:DAYLIGHT
BEGIN:DAYLIGHT
DTSTART:20250309T070000
TZOFFSETFROM:-0500
TZOFFSETTO:-0400
TZNAME:EDT
END:DAYLIGHT
BEGIN:STANDARD
DTSTART:20241103T060000
TZOFFSETFROM:-0400
TZOFFSETTO:-0500
TZNAME:EST
END:STANDARD
END:VTIMEZONE
BEGIN:VEVENT
UID:59c97770-65f5-4c46-9d03-86fb61ff2bbc
DTSTAMP:20250213T180525Z
SUMMARY:RDF-star Semantics TF
DTSTART;TZID=America/New_York:20250214T100000
DTEND;TZID=America/New_York:20250214T113000
DESCRIPTION:https://www.w3.org/events/meetings/59c97770-65f5-4c46-9d03-86fb
 61ff2bbc/20250214T100000/\n\n\n\nAgenda\n\n- Discussion on [PR #91](https:
 //github.com/w3c/rdf-semantics/pull/91): A formal background to unify trip
 les and triple terms\n- Discussion on [issue #49](https://github.com/w3c/r
 df-semantics/issues/49): Define an interpretation of Triple Terms\n- Discu
 ssion on [issue #61](https://github.com/w3c/rdf-semantics/issues/61): Expl
 ain how classic RDF reification relates to triple terms and rdf:reifies\n-
  Discussion on [issue #86](https://github.com/w3c/rdf-semantics/issues/86)
 : Define the substitution function of appearances
STATUS:TENTATIVE
CREATED:20250213T180453Z
LAST-MODIFIED:20250213T180525Z
SEQUENCE:2
ORGANIZER;CN=W3C Calendar;PARTSTAT=ACCEPTED;ROLE=NON-PARTICIPANT:mailto:nor
 eply@w3.org
ATTENDEE;CUTYPE=GROUP;ROLE=OPT-PARTICIPANT;RSVP=FALSE;CN=RDF-star Semantics
 :mailto:noreply@w3.org
RECURRENCE-ID;TZID=America/New_York:20250214T100000
END:VEVENT
END:VCALENDAR
