BEGIN:VCALENDAR
VERSION:2.0
PRODID:-//Sabre//Sabre VObject 4.5.8//EN
CALSCALE:GREGORIAN
LAST-MODIFIED:20221012T174029Z
BEGIN:VTIMEZONE
TZID:Europe/London
X-MICROSOFT-CDO-TZID:1
BEGIN:STANDARD
DTSTART:20211031T010000
TZOFFSETFROM:+0100
TZOFFSETTO:+0000
TZNAME:GMT
END:STANDARD
BEGIN:STANDARD
DTSTART:20221030T010000
TZOFFSETFROM:+0100
TZOFFSETTO:+0000
TZNAME:GMT
END:STANDARD
BEGIN:DAYLIGHT
DTSTART:20220327T010000
TZOFFSETFROM:+0000
TZOFFSETTO:+0100
TZNAME:BST
END:DAYLIGHT
END:VTIMEZONE
BEGIN:VEVENT
UID:59c53b6b-4dcc-4d0e-9b1f-13949f19a6ac
DTSTAMP:20221012T174029Z
SUMMARY:W3C Internationalization Working Group Teleconference (canceled)
DTSTART;TZID=Europe/London:20221013T150000
DTEND;TZID=Europe/London:20221013T160000
DESCRIPTION:https://www.w3.org/events/meetings/59c53b6b-4dcc-4d0e-9b1f-1394
 9f19a6ac/20221013T150000/\n\n\n\nAgenda\n\n** No call this week---see you 
 next week **\n\n\n#### Pending Issue Review\nhttps://github.com/w3c/i18n-a
 ctivity/issues?q=is%3Aissue+is%3Aopen+label%3Apending\n\n\n---\n\n### BE P
 REPARED \n\n\n### REMINDER \n\nGetting too many of these notifications? Re
 ad [this](https://lists.w3.org/Archives/Member/member-i18n-core/2022Mar/00
 13.html) email from Richard on how to manage notifications.\n\n### SCRIBE 
 \n\nIf you are set to scribe and cannot make it\, please send regrets to t
 he chair. Volunteers to act as scribe cheerfully accepted.\n\nBert *\nFeli
 x [2022-09-22]\nFuqiao [2022-09-29]\nAtsushi [2022-10-06]\n\n### MEETING I
 NFO\n\nhttps://www.w3.org/2017/09/i18n-meeting-info.html (Member Only Link
 )\n\n### AGENDA (for agendabot)\n\nTopic: Agenda Review\nTopic: Action Ite
 ms\nTopic: Info Share\nTopic: RADAR Review\nTopic: Pending Issue Review\nT
 opic: AOB?\n\n### Chair's Link Farm\nhttps://www.w3.org/International/trac
 k/actions/open\nhttps://github.com/w3c/i18n-request/projects/1\nhttps://gi
 thub.com/w3c/i18n-activity/issues?q=is%3Aissue+is%3Aopen+label%3Apending
STATUS:CANCELLED
CREATED:20221010T155243Z
LAST-MODIFIED:20221012T174029Z
SEQUENCE:2
ORGANIZER;CN=W3C Calendar;PARTSTAT=ACCEPTED;ROLE=NON-PARTICIPANT:mailto:nor
 eply@w3.org
ATTENDEE;CUTYPE=GROUP;ROLE=OPT-PARTICIPANT;RSVP=FALSE;CN=Internationalizati
 on Working Group:mailto:public-i18n-core@w3.org
LOCATION:Location: https://www.w3.org/2017/09/i18n-meeting-info.html
RECURRENCE-ID;TZID=Europe/London:20221013T150000
END:VEVENT
END:VCALENDAR
