BEGIN:VCALENDAR
VERSION:2.0
PRODID:-//Sabre//Sabre VObject 4.5.8//EN
CALSCALE:GREGORIAN
LAST-MODIFIED:20260122T070841Z
BEGIN:VTIMEZONE
TZID:America/Los_Angeles
X-MICROSOFT-CDO-TZID:13
BEGIN:DAYLIGHT
DTSTART:20250309T100000
TZOFFSETFROM:-0800
TZOFFSETTO:-0700
TZNAME:PDT
END:DAYLIGHT
BEGIN:DAYLIGHT
DTSTART:20260308T100000
TZOFFSETFROM:-0800
TZOFFSETTO:-0700
TZNAME:PDT
END:DAYLIGHT
BEGIN:STANDARD
DTSTART:20251102T090000
TZOFFSETFROM:-0700
TZOFFSETTO:-0800
TZNAME:PST
END:STANDARD
END:VTIMEZONE
BEGIN:VEVENT
UID:59672234-27d9-422f-afbc-904c300a3342
DTSTAMP:20260122T070841Z
SUMMARY:ARIA and Assistive Technologies Community Group Weekly Teleconferen
 ce
DTSTART;TZID=America/Los_Angeles:20260122T120000
DTEND;TZID=America/Los_Angeles:20260122T130000
DESCRIPTION:https://www.w3.org/events/meetings/59672234-27d9-422f-afbc-904c
 300a3342/20260122T120000/\n\nBiweekly meeting focused primarily on generat
 ing ARIA-AT reports via manual testing.\n\nAgenda: https://github.com/w3c/
 aria-at/wiki/January-22%2C-2026-Agenda\n\nAgenda\n\n### Review agenda and 
 next meeting dates\n\n* Requests for changes to agenda?\n* Next CG meeting
 : (tentative) Thursday February 5\n* Next AT Driver Subgroup meeting: TBD\
 n\n### 2026 Meeting Schedule\n\n* Discuss options for meeting time.\n* Pro
 posal: Bi-weekly\, on weeks opposite APG TF (helps distribute Matt's workl
 oad)\n* Some members asked for earlier time because they are in European t
 ime zones.\n* Proposals:\n    * Option A: Use our former Wednesday 10:00 U
 S Pacific time starting January 28\n    * Option B: Run a survey\n\n### Cu
 rrent interop reporting status\n* Still working on refactor of grid test p
 lan\; have some open questions later in agenda.\n* [Test plan update track
 er in Google Sheets](https://docs.google.com/spreadsheets/d/14QIhQB9ufdUdZ
 Nhb3TNZzoZkGBq0oHawft-S5pm0ioY/edit?gid=0#gid=0)\n\n#### plans in draft re
 view\n\nIn progress:\n1. [Checkbox (Two State)](https://aria-at.w3.org/dat
 a-management/apg/checkbox)\n1. [Quantity Spin Button](https://aria-at.w3.o
 rg/data-management/apg/quantity-spin-button)\n1. [Switch Example Using HTM
 L Checkbox Input](https://www.w3.org/WAI/ARIA/apg/patterns/switch/examples
 /switch-checkbox/)\n1. [Tabs with Automatic Activation](https://aria-at.w3
 .org/data-management/tabs-automatic-activation)\n1. 14 Automated report up
 dates\n\nOn hold:\n1. [Rating Radio Group Example](https://www.w3.org/WAI/
 ARIA/apg/patterns/radio/examples/radio-rating/)\n    * NVDA reports blocke
 d by potential need to revise arrow key commands in test plans ([issue 124
 6](https://github.com/w3c/aria-at/issues/1246))\n\n#### Coming next to dra
 ft review\n\n* Simple data grid\n\n#### 18 plans in candidate review\n\nPl
 an | Vispero | Apple\n--- | --- | ---\n[Accordion](https://aria-at.w3.org/
 data-management/accordion)|Not Started|Not Started\n[Action Menu Button Ex
 ample Using aria-activedescendant](https://aria-at.w3.org/data-management/
 menu-button-actions-active-descendant) | In Review | In Review\n[Action Me
 nu Button Example Using element.focus](https://aria-at.w3.org/data-managem
 ent/menu-button-actions) | Not Started | Not Started\n[Alert](https://aria
 -at.w3.org/data-management/alert)| Approved | In Review\n[Color Viewer Sli
 der](https://aria-at.w3.org/data-management/horizontal-slider) | in review
  | Not started\n[Command Button](https://aria-at.w3.org/data-management/co
 mmand-button)| Approved | In review\n[Disclosure Navigation Menu Example](
 https://aria-at.w3.org/data-management/disclosure-navigation) | In Review 
 | Not Started\n[Disclosure of Answers to Frequently Asked Questions](https
 ://aria-at.w3.org/data-management/disclosure-faq)|Not Started|Not Started\
 n[Media Seek Slider](https://aria-at.w3.org/data-management/seek-slider) |
  In Review | Not started\n[Modal Dialog](https://aria-at.w3.org/data-manag
 ement/modal-dialog) | Approved | Not started\n[Navigation Menu Button](htt
 ps://aria-at.w3.org/data-management/menu-button-navigation) | Not Started 
 | Not started\n[Radio Group Example Using aria-activedescendant](https://a
 ria-at.w3.org/data-management/radiogroup-aria-activedescendant)| Approved 
 | Not started\n[Radio Group Example Using Roving tabindex](https://aria-at
 .w3.org/data-management/radiogroup-roving-tabindex)|In Review|Not started\
 n[Switch](https://aria-at.w3.org/data-management/switch)|Not Started|Not S
 tarted\n[Switch Example Using HTML Button](https://www.w3.org/WAI/ARIA/apg
 /patterns/switch/examples/switch-button/)|Not Started|Not Started\n[Tabs w
 ith Manual Activation](https://aria-at.w3.org/data-management/tabs-manual-
 activation)|Not Started|Not Started\n[Toggle Button](https://aria-at.w3.or
 g/data-management/toggle-button)| approved | In review\n[Vertical Temperat
 ure Slider](https://aria-at.w3.org/data-management/vertical-temperature-sl
 ider)|Not Started|Not Started\n\n### Checkbox test plan changes\n\n* Need 
 Dean and Joe to re-run VoiceOver tests 1 and 3 due to correction of VoiceO
 ver vo-left/right commands.\n* In December\, the 'j and shift+j commands w
 ere not getting rendered for tests 1 through 4. That was an app issue\, no
 t a test plan issue. It has been resolved.\n\n### Running quantity spin bu
 tton plan\n\n* Current version: [Quantity Spin Button Example Test Plan V2
 5.12.16](https://aria-at.w3.org/test-review/163676)\n* VO results: Waiting
  on Dean and Murray.\n* JAWS and NVDA: Bot is failing\; working on resolut
 ion path.\n\n### Update on test plan for switch using checkbox\n\n* Was pr
 eviously blocked by app issues related to resolution of conflicting result
 s.\n* App Issues are now resolved.\n* All testing is complete.\n* Before a
 dvancing to candidate\, need to resolve one issue\n* [Test Plan Feedback: 
 Remove Enter from VO commands for "Operate a switch"\, tests 7 and 8 in "S
 witch Example Using HTML Checkbox Input V25.10.06" · Issue #1361 · w3c/a
 ria-at](https://github.com/w3c/aria-at/issues/1361)\n\n### Auto-update rep
 ort reviews\n\n* No action needed this week\; Matt reviewing and finalizin
 g reports.\n* Joe has validated 10 of 13 JAWS runs\n    \n### Request for 
 change to alert test plan\n\n[VoiceOver for macOS Changes Requested: "Trig
 ger an alert" (Alert Example\, Test 1\, V24.04.26) for Candidate Report ·
  Issue #1316 · w3c/aria-at](https://github.com/w3c/aria-at/issues/1316)\n
 \n### Grid plan assertion priority questions\n\n**Note:** May need to save
  for later (PR previews are not working)\n\n* [PR 1353: Refactor Test Plan
  for the Minimal Data Grid Example v2 by IsaDC](https://github.com/w3c/ari
 a-at/pull/1353)\n* When arrowing backward into a grid\, ...\n    * Should 
 we assertname/role or just boundary?\n    * What would priority be?\n    *
  What about row and column number?
STATUS:CONFIRMED
CREATED:20260122T070840Z
LAST-MODIFIED:20260122T070841Z
SEQUENCE:2
ORGANIZER;CN=W3C Calendar;PARTSTAT=ACCEPTED;ROLE=NON-PARTICIPANT:mailto:nor
 eply@w3.org
ATTENDEE;CUTYPE=GROUP;ROLE=OPT-PARTICIPANT;RSVP=FALSE;CN=ARIA and Assistive
  Technologies Community Group:mailto:public-aria-at@w3.org
RECURRENCE-ID;TZID=America/Los_Angeles:20260122T120000
END:VEVENT
END:VCALENDAR
