BEGIN:VCALENDAR
VERSION:2.0
PRODID:-//Sabre//Sabre VObject 4.5.8//EN
CALSCALE:GREGORIAN
LAST-MODIFIED:20251201T161700Z
BEGIN:VTIMEZONE
TZID:Asia/Tokyo
X-MICROSOFT-CDO-TZID:20
BEGIN:STANDARD
DTSTART:20241116T004500
TZOFFSETFROM:+0900
TZOFFSETTO:+0900
TZNAME:JST
END:STANDARD
END:VTIMEZONE
BEGIN:VEVENT
UID:5918a72d-0c77-4257-88c2-fa2ce51e382e
DTSTAMP:20251201T161700Z
SUMMARY:Decentralized Identifier Working Group
DTSTART;TZID=Asia/Tokyo:20251111T094500
DTEND;TZID=Asia/Tokyo:20251111T180000
DESCRIPTION:https://www.w3.org/events/meetings/5918a72d-0c77-4257-88c2-fa2c
 e51e382e/\n\n\n\nAgenda\n\n|Start|End | Topic |\n|-------|------|---------
 |\n|9:45 |	10:00 |	Welcome\, Introductions\, and Logistics |\n|10:00 |	10:
 30 |	Introduction to DIDs and DID Resolution |\n|10:30 |	11:00 |	Getting t
 o Recommendation (timeline) |\n|11:00 |	11:30 |	Break |\n|11:30 |	12:00 |	
 DID Resolution vs DID URL Dereferencing |\n|12:00 |	12:30 |	DID Resolution
  Issue Processing |\n|12:30 |	13:00 |	DID Resolution Issue Processing |\n|
 13:00 |	14:15 |	Lunch |\n|14:15 |	14:45 |	DID Resolution PR Processing |\n
 |14:45 |	15:30 |	DID Resolution Issue Processing |\n|15:30 |	16:00 |	DIDWG
  Charter extension |\n|16:00 |	16:30 |	Break |\n|16:30 |	17:30 |	Test Suit
 e (Testability of normative statements) |\n|17:30 |	18:30 |	Next Steps |
STATUS:CONFIRMED
CREATED:20250716T142315Z
LAST-MODIFIED:20251201T161700Z
SEQUENCE:8
ORGANIZER;CN=W3C Calendar;PARTSTAT=ACCEPTED;ROLE=NON-PARTICIPANT:mailto:nor
 eply@w3.org
ATTENDEE;CUTYPE=GROUP;ROLE=OPT-PARTICIPANT;RSVP=FALSE;CN=Decentralized Iden
 tifier Working Group:mailto:public-did-wg@w3.org
LOCATION:Floor 4 - 406
CATEGORIES:TPAC 2025,Group Meetings
END:VEVENT
END:VCALENDAR
