BEGIN:VCALENDAR
VERSION:2.0
PRODID:-//Sabre//Sabre VObject 4.5.8//EN
CALSCALE:GREGORIAN
LAST-MODIFIED:20240924T162332Z
BEGIN:VTIMEZONE
TZID:America/Los_Angeles
X-MICROSOFT-CDO-TZID:13
BEGIN:STANDARD
DTSTART:20231105T090000
TZOFFSETFROM:-0700
TZOFFSETTO:-0800
TZNAME:PST
END:STANDARD
BEGIN:STANDARD
DTSTART:20241103T090000
TZOFFSETFROM:-0700
TZOFFSETTO:-0800
TZNAME:PST
END:STANDARD
BEGIN:DAYLIGHT
DTSTART:20240310T100000
TZOFFSETFROM:-0800
TZOFFSETTO:-0700
TZNAME:PDT
END:DAYLIGHT
END:VTIMEZONE
BEGIN:VEVENT
UID:58f67161-3138-4c48-8d35-dc5d04de8e75
DTSTAMP:20240924T162332Z
SUMMARY:Web Applications Working Group\, Devices and Sensors Working Group 
 Joint Meeting
DTSTART;TZID=America/Los_Angeles:20240924T090000
DTEND;TZID=America/Los_Angeles:20240924T103000
DESCRIPTION:https://www.w3.org/events/meetings/58f67161-3138-4c48-8d35-dc5d
 04de8e75/\n\n\n\nAgenda: https://github.com/w3c/devicesensors-wg/issues/69
STATUS:CONFIRMED
CREATED:20240614T161709Z
LAST-MODIFIED:20240924T162332Z
SEQUENCE:6
ORGANIZER;CN=W3C Calendar;PARTSTAT=ACCEPTED;ROLE=NON-PARTICIPANT:mailto:nor
 eply@w3.org
ATTENDEE;CUTYPE=GROUP;ROLE=OPT-PARTICIPANT;RSVP=FALSE;CN=Devices and Sensor
 s Working Group:mailto:public-device-apis@w3.org
ATTENDEE;CUTYPE=GROUP;ROLE=OPT-PARTICIPANT;RSVP=FALSE;CN=Web Applications W
 orking Group:mailto:public-webapps@w3.org
LOCATION:2 Ballroom Level - California A
CATEGORIES:TPAC 2024,Group Meetings
END:VEVENT
END:VCALENDAR
