BEGIN:VCALENDAR
VERSION:2.0
PRODID:-//Sabre//Sabre VObject 4.5.8//EN
CALSCALE:GREGORIAN
LAST-MODIFIED:20220705T191337Z
BEGIN:VTIMEZONE
TZID:America/Los_Angeles
X-MICROSOFT-CDO-TZID:13
BEGIN:STANDARD
DTSTART:20211107T090000
TZOFFSETFROM:-0700
TZOFFSETTO:-0800
TZNAME:PST
END:STANDARD
BEGIN:STANDARD
DTSTART:20221106T090000
TZOFFSETFROM:-0700
TZOFFSETTO:-0800
TZNAME:PST
END:STANDARD
BEGIN:DAYLIGHT
DTSTART:20220313T100000
TZOFFSETFROM:-0800
TZOFFSETTO:-0700
TZNAME:PDT
END:DAYLIGHT
END:VTIMEZONE
BEGIN:VEVENT
UID:58caa51b-97af-4dbb-aa2e-68e89c471808
DTSTAMP:20220705T191337Z
SUMMARY:W3C Process CG Call
DTSTART;TZID=America/Los_Angeles:20220622T070000
DTEND;TZID=America/Los_Angeles:20220622T080000
DESCRIPTION:https://www.w3.org/events/meetings/58caa51b-97af-4dbb-aa2e-68e8
 9c471808/20220622T070000/\n\n[Revising W3C Process](https://www.w3.org/com
 munity/w3process/): Examine the way W3C works. Propose improvements to the
  formal processes.\n\n* [Github w3c/w3process](https://github.com/w3c/w3pr
 ocess/blob/main/README.md): [issues](https://github.com/w3c/w3process/issu
 es)\, [pull requests](https://github.com/w3c/w3process/pulls)\, [monthly p
 ulse](https://github.com/w3c/w3process/pulse/monthly)\n* [W3C Process Draf
 t](https://www.w3.org/Consortium/Process/Drafts/)\n* [Mailing list](https:
 //lists.w3.org/Archives/Public/public-w3process/)\n\nUsual meeting time: S
 ECOND and FOURTH WEDNESDAY OF THE MONTH AT 7AM PACIFIC.\n\nAgenda\n\n1 ) A
 ssign scribe\, etc.\n\n2 ) Issues up for closure\n\n[Stronger emphasis on 
 reaching Recommendation](https://github.com/w3c/w3process/issues/443)\n[Pr
 ocess should ask or maybe require folks requesting a document transition t
 o CR to describe why/how they think the document is likely to exit CR](htt
 ps://github.com/w3c/w3process/issues/462)\n\n3 ) [Community Groups and Bus
 iness Groups should be incorporated into the Process](https://github.com/w
 3c/w3process/issues/409)\n  Should we address #409 in our upcoming revisio
 n?\n\n4 ) Director-Free: Recusal from W3C Council\n\nGiven  our experiment
 s\, are we still satisfied with the recusal as defined in\n [director-free
 /#council](https://www.w3.org/Consortium/Process/Drafts/director-free/#cou
 ncil)\n\nFor example\, we're looping the AC in our dismissal steps nowaday
 s. Should this be added to the Process or left to the Guide?\n\n5 ) [Let t
 he Team rather than the Director handle progression on TR](https://github.
 com/w3c/w3process/pull/586)\n Do we need more discussion on this one?\n\n6
  ) [Maturity Level is a weird term](https://github.com/w3c/w3process/issue
 s/455)\n\n7 ) TAG Appointment: Review the proposal before sending it to th
 e AB\n\n[director-free/#TAG-appointments](https://www.w3.org/Consortium/Pr
 ocess/Drafts/director-free/#TAG-appointments)\n Unless we have comments\, 
 the next step is to open an issue for the AB.\n From [2022-06-08 meeting](
 https://www.w3.org/2022/06/08-w3process-minutes.html#t04)\n\n8 ) Process 2
 022\, The Milestone: [long list](https://github.com/w3c/w3process/mileston
 e/8)\, [shorter list](https://github.com/w3c/w3process/labels/P2022)\n  An
 y candidate resolution on any of those issues?\n\n9 ) Any other business.\
 n\n10 ) Next meeting.
STATUS:CONFIRMED
CREATED:20220610T145033Z
LAST-MODIFIED:20220705T191337Z
SEQUENCE:7
ORGANIZER;CN=W3C Calendar;PARTSTAT=ACCEPTED;ROLE=NON-PARTICIPANT:mailto:nor
 eply@w3.org
ATTENDEE;CUTYPE=GROUP;ROLE=OPT-PARTICIPANT;RSVP=FALSE;CN=W3C Process Commun
 ity Group:mailto:public-w3process@w3.org
RECURRENCE-ID;TZID=America/Los_Angeles:20220622T070000
END:VEVENT
END:VCALENDAR
