BEGIN:VCALENDAR
VERSION:2.0
PRODID:-//Sabre//Sabre VObject 4.5.8//EN
CALSCALE:GREGORIAN
LAST-MODIFIED:20210429T165725Z
BEGIN:VTIMEZONE
TZID:America/New_York
X-MICROSOFT-CDO-TZID:10
BEGIN:STANDARD
DTSTART:20201101T060000
TZOFFSETFROM:-0400
TZOFFSETTO:-0500
TZNAME:EST
END:STANDARD
BEGIN:STANDARD
DTSTART:20211107T060000
TZOFFSETFROM:-0400
TZOFFSETTO:-0500
TZNAME:EST
END:STANDARD
BEGIN:DAYLIGHT
DTSTART:20210314T070000
TZOFFSETFROM:-0500
TZOFFSETTO:-0400
TZNAME:EDT
END:DAYLIGHT
END:VTIMEZONE
BEGIN:VEVENT
UID:58c6f6c0-b5bb-495d-8351-2ee01e18f855
DTSTAMP:20210429T165725Z
SUMMARY:ARIA Deep Dive - Accessible Name and Name Prohibited
DTSTART;TZID=America/New_York:20210429T120000
DTEND;TZID=America/New_York:20210429T130000
DESCRIPTION:https://www.w3.org/events/meetings/58c6f6c0-b5bb-495d-8351-2ee0
 1e18f855/\n\nThis is a special meeting to try to get resolution on https:/
 /github.com/w3c/aria/discussions/1449\n\nAgenda\n\nThis is a special meeti
 ng to try to get resolution on https://github.com/w3c/aria/discussions/144
 9
STATUS:CONFIRMED
CREATED:20210428T023925Z
LAST-MODIFIED:20210429T165725Z
SEQUENCE:0
ORGANIZER;CN=W3C Calendar;PARTSTAT=ACCEPTED;ROLE=NON-PARTICIPANT:mailto:nor
 eply@w3.org
ATTENDEE;CUTYPE=GROUP;ROLE=OPT-PARTICIPANT;RSVP=FALSE;CN=Accessible Rich In
 ternet Applications Working Group:mailto:public-aria@w3.org
END:VEVENT
END:VCALENDAR
