BEGIN:VCALENDAR
VERSION:2.0
PRODID:-//Sabre//Sabre VObject 4.5.8//EN
CALSCALE:GREGORIAN
LAST-MODIFIED:20241118T181238Z
BEGIN:VTIMEZONE
TZID:America/Los_Angeles
X-MICROSOFT-CDO-TZID:13
BEGIN:DAYLIGHT
DTSTART:20240310T100000
TZOFFSETFROM:-0800
TZOFFSETTO:-0700
TZNAME:PDT
END:DAYLIGHT
BEGIN:DAYLIGHT
DTSTART:20250309T100000
TZOFFSETFROM:-0800
TZOFFSETTO:-0700
TZNAME:PDT
END:DAYLIGHT
BEGIN:STANDARD
DTSTART:20241103T090000
TZOFFSETFROM:-0700
TZOFFSETTO:-0800
TZNAME:PST
END:STANDARD
END:VTIMEZONE
BEGIN:VEVENT
UID:58adde34-9842-4dd2-b2f7-f53820a6f581
DTSTAMP:20241118T181238Z
SUMMARY:Immersive Web Group Calls
DTSTART;TZID=America/Los_Angeles:20241126T120000
DTEND;TZID=America/Los_Angeles:20241126T130000
DESCRIPTION:https://www.w3.org/events/meetings/58adde34-9842-4dd2-b2f7-f538
 20a6f581/20241126T120000/\n\nHi Everyone\, \n\nCancelling this meeting sin
 ce it is the Thanksgiving week in US and most people might be on vacation.
  \n\nHave a nice week\n\nAgenda: https://github.com/immersive-web/administ
 rivia/blob/main/meetings/2024/2024-01-23-Immersive_Web_Working_Group_Telec
 onference-agenda.md\n\nAgenda\n\n### Call Agenda\n\nThis agenda can be vie
 wed and updated on [Github](https://github.com/immersive-web/administrivia
 /blob/main/meetings/2024/2024-01-23-Immersive_Web_Working_Group_Teleconfer
 ence-agenda.md).\n\nIf you would like to add an item to the agenda or volu
 nteer to scribe please open a pull request against this agenda.\n\n* [prop
 osals#87 Body tracking API](https://github.com/immersive-web/proposals/iss
 ues/87) - cabanier\n> A common feature request is to give developers acces
 s to the user's body.\n >I made a proposal here: https://cabanier.github.i
 o/webxr-body-tracking/\n\n### Immersive Web Working Group Teleconference -
  2024-01-23\n\nSan Francisco (U.S.A. - California)	Tuesday\, January 23 at
  11:00 AM PST\nBoston (U.S.A. - Massachusetts)	Tuesday\, January 23 at 2:0
 0 PM EST\nLondon (United Kingdom - England)	Tuesday\, January 23 at 7:00 P
 M GMT\nParis (France)	Tuesday\, January 23 at 8:00 PM GMT+1\nTokyo (Japan)
 	Wednesday\, January 24 at 4:00 AM GMT+9\nCorresponding UTC (GMT)	Tuesday\
 , January 23 at 7:00 PM UTC\n\n### Logistics\n\nChair: Ada Rose Cannon\n\n
 Scribe:\n\nIRC: [irc.w3.org](http://irc.w3.org/):6667 #immersive-web [Inst
 ructions](https://github.com/immersive-web/administrivia/blob/main/IRC.md)
 \n\nCall Details can be found on the [Internal Mailing List](https://lists
 .w3.org/Archives/Member/internal-immersive-web/2019Feb/0002.html)\n\nIf yo
 u are unable to login to view the call details please ask on the IRC befor
 e the call.\n\nFor assistance go to https://mit.webex.com/mit/mc  and on t
 he left navigation bar\, click "Support".\n\n### Help Wanted\n\nHere are s
 ome issues which are good issues to get involved in\, if you have taken re
 sponsibility for one leave a comment in the issue:\n\n- [webvr-polyfill-dp
 db#34 Create a helper script/web page for generating values for a new devi
 ce](https://github.com/immersive-web/webvr-polyfill-dpdb/issues/34)\n- [we
 bxr-input-profiles#69 Resizing the window changes the model viewer's aspec
 t ratio](https://github.com/immersive-web/webxr-input-profiles/issues/69) 
 [<small>[Future]</small>](https://api.github.com/repos/immersive-web/webxr
 -input-profiles/milestones/4)\n- [webxr#953 Typescript definitions](https:
 //github.com/immersive-web/webxr/issues/953) [<small>[Pre-REC]</small>](ht
 tps://api.github.com/repos/immersive-web/webxr/milestones/16)\n- [webxr#11
 15 Explicitly spec when inline animation frame loops are suspended](https:
 //github.com/immersive-web/webxr/issues/1115) [<small>[Pre-REC]</small>](h
 ttps://api.github.com/repos/immersive-web/webxr/milestones/16)\n- [proposa
 ls#82 Some sort of local shared space](https://github.com/immersive-web/pr
 oposals/issues/82)
STATUS:CANCELLED
CREATED:20241118T181235Z
LAST-MODIFIED:20241118T181238Z
SEQUENCE:4
ORGANIZER;CN=W3C Calendar;PARTSTAT=ACCEPTED;ROLE=NON-PARTICIPANT:mailto:nor
 eply@w3.org
ATTENDEE;CUTYPE=GROUP;ROLE=OPT-PARTICIPANT;RSVP=FALSE;CN=Immersive Web Comm
 unity Group:mailto:public-immersive-web@w3.org
ATTENDEE;CUTYPE=GROUP;ROLE=OPT-PARTICIPANT;RSVP=FALSE;CN=Immersive Web Work
 ing Group:mailto:public-immersive-web-wg@w3.org
LOCATION:Teleconference
RECURRENCE-ID;TZID=America/Los_Angeles:20241126T120000
END:VEVENT
END:VCALENDAR
