BEGIN:VCALENDAR
VERSION:2.0
PRODID:-//Sabre//Sabre VObject 4.5.8//EN
CALSCALE:GREGORIAN
LAST-MODIFIED:20240926T230712Z
BEGIN:VTIMEZONE
TZID:America/Los_Angeles
X-MICROSOFT-CDO-TZID:13
BEGIN:STANDARD
DTSTART:20231105T090000
TZOFFSETFROM:-0700
TZOFFSETTO:-0800
TZNAME:PST
END:STANDARD
BEGIN:STANDARD
DTSTART:20241103T090000
TZOFFSETFROM:-0700
TZOFFSETTO:-0800
TZNAME:PST
END:STANDARD
BEGIN:DAYLIGHT
DTSTART:20240310T100000
TZOFFSETFROM:-0800
TZOFFSETTO:-0700
TZNAME:PDT
END:DAYLIGHT
END:VTIMEZONE
BEGIN:VEVENT
UID:58adde34-9842-4dd2-b2f7-f53820a6f581
DTSTAMP:20240926T230712Z
SUMMARY:Immersive Web Group Calls
DTSTART;TZID=America/Los_Angeles:20241001T120000
DTEND;TZID=America/Los_Angeles:20241001T130000
DESCRIPTION:https://www.w3.org/events/meetings/58adde34-9842-4dd2-b2f7-f538
 20a6f581/20241001T120000/\n\nHi Everyone\, \n\nWe are cancelling this occu
 rance since it is very close to TPAC.\n\nHave a nice week!\n\nAgenda: http
 s://github.com/immersive-web/administrivia/blob/main/meetings/2024/2024-01
 -23-Immersive_Web_Working_Group_Teleconference-agenda.md\n\nAgenda\n\n### 
 Call Agenda\n\nThis agenda can be viewed and updated on [Github](https://g
 ithub.com/immersive-web/administrivia/blob/main/meetings/2024/2024-01-23-I
 mmersive_Web_Working_Group_Teleconference-agenda.md).\n\nIf you would like
  to add an item to the agenda or volunteer to scribe please open a pull re
 quest against this agenda.\n\n* [proposals#87 Body tracking API](https://g
 ithub.com/immersive-web/proposals/issues/87) - cabanier\n> A common featur
 e request is to give developers access to the user's body.\n >I made a pro
 posal here: https://cabanier.github.io/webxr-body-tracking/\n\n### Immersi
 ve Web Working Group Teleconference - 2024-01-23\n\nSan Francisco (U.S.A. 
 - California)	Tuesday\, January 23 at 11:00 AM PST\nBoston (U.S.A. - Massa
 chusetts)	Tuesday\, January 23 at 2:00 PM EST\nLondon (United Kingdom - En
 gland)	Tuesday\, January 23 at 7:00 PM GMT\nParis (France)	Tuesday\, Janua
 ry 23 at 8:00 PM GMT+1\nTokyo (Japan)	Wednesday\, January 24 at 4:00 AM GM
 T+9\nCorresponding UTC (GMT)	Tuesday\, January 23 at 7:00 PM UTC\n\n### Lo
 gistics\n\nChair: Ada Rose Cannon\n\nScribe:\n\nIRC: [irc.w3.org](http://i
 rc.w3.org/):6667 #immersive-web [Instructions](https://github.com/immersiv
 e-web/administrivia/blob/main/IRC.md)\n\nCall Details can be found on the 
 [Internal Mailing List](https://lists.w3.org/Archives/Member/internal-imme
 rsive-web/2019Feb/0002.html)\n\nIf you are unable to login to view the cal
 l details please ask on the IRC before the call.\n\nFor assistance go to h
 ttps://mit.webex.com/mit/mc  and on the left navigation bar\, click "Suppo
 rt".\n\n### Help Wanted\n\nHere are some issues which are good issues to g
 et involved in\, if you have taken responsibility for one leave a comment 
 in the issue:\n\n- [webvr-polyfill-dpdb#34 Create a helper script/web page
  for generating values for a new device](https://github.com/immersive-web/
 webvr-polyfill-dpdb/issues/34)\n- [webxr-input-profiles#69 Resizing the wi
 ndow changes the model viewer's aspect ratio](https://github.com/immersive
 -web/webxr-input-profiles/issues/69) [<small>[Future]</small>](https://api
 .github.com/repos/immersive-web/webxr-input-profiles/milestones/4)\n- [web
 xr#953 Typescript definitions](https://github.com/immersive-web/webxr/issu
 es/953) [<small>[Pre-REC]</small>](https://api.github.com/repos/immersive-
 web/webxr/milestones/16)\n- [webxr#1115 Explicitly spec when inline animat
 ion frame loops are suspended](https://github.com/immersive-web/webxr/issu
 es/1115) [<small>[Pre-REC]</small>](https://api.github.com/repos/immersive
 -web/webxr/milestones/16)\n- [proposals#82 Some sort of local shared space
 ](https://github.com/immersive-web/proposals/issues/82)
STATUS:CANCELLED
CREATED:20240926T230709Z
LAST-MODIFIED:20240926T230712Z
SEQUENCE:4
ORGANIZER;CN=W3C Calendar;PARTSTAT=ACCEPTED;ROLE=NON-PARTICIPANT:mailto:nor
 eply@w3.org
ATTENDEE;CUTYPE=GROUP;ROLE=OPT-PARTICIPANT;RSVP=FALSE;CN=Immersive Web Comm
 unity Group:mailto:public-immersive-web@w3.org
ATTENDEE;CUTYPE=GROUP;ROLE=OPT-PARTICIPANT;RSVP=FALSE;CN=Immersive Web Work
 ing Group:mailto:public-immersive-web-wg@w3.org
LOCATION:Teleconference
RECURRENCE-ID;TZID=America/Los_Angeles:20241001T120000
END:VEVENT
END:VCALENDAR
