BEGIN:VCALENDAR
VERSION:2.0
PRODID:-//Sabre//Sabre VObject 4.5.8//EN
CALSCALE:GREGORIAN
LAST-MODIFIED:20240903T041750Z
BEGIN:VTIMEZONE
TZID:America/Los_Angeles
X-MICROSOFT-CDO-TZID:13
BEGIN:STANDARD
DTSTART:20231105T090000
TZOFFSETFROM:-0700
TZOFFSETTO:-0800
TZNAME:PST
END:STANDARD
BEGIN:STANDARD
DTSTART:20241103T090000
TZOFFSETFROM:-0700
TZOFFSETTO:-0800
TZNAME:PST
END:STANDARD
BEGIN:DAYLIGHT
DTSTART:20240310T100000
TZOFFSETFROM:-0800
TZOFFSETTO:-0700
TZNAME:PDT
END:DAYLIGHT
END:VTIMEZONE
BEGIN:VEVENT
UID:58adde34-9842-4dd2-b2f7-f53820a6f581
DTSTAMP:20240903T041750Z
SUMMARY:Immersive Web Group Calls
DTSTART;TZID=America/Los_Angeles:20240903T120000
DTEND;TZID=America/Los_Angeles:20240903T130000
DESCRIPTION:https://www.w3.org/events/meetings/58adde34-9842-4dd2-b2f7-f538
 20a6f581/20240903T120000/\n\nHi everyone\, \n\nWe are cancelling this week
 s meeting because we do not have any issues. Please remember to create and
  label issues you would like to discuss for the upcoming TPAC.\n\nThanks\,
 \nChairs
STATUS:CANCELLED
CREATED:20240903T041747Z
LAST-MODIFIED:20240903T041750Z
SEQUENCE:4
ORGANIZER;CN=W3C Calendar;PARTSTAT=ACCEPTED;ROLE=NON-PARTICIPANT:mailto:nor
 eply@w3.org
ATTENDEE;CUTYPE=GROUP;ROLE=OPT-PARTICIPANT;RSVP=FALSE;CN=Immersive Web Comm
 unity Group:mailto:public-immersive-web@w3.org
ATTENDEE;CUTYPE=GROUP;ROLE=OPT-PARTICIPANT;RSVP=FALSE;CN=Immersive Web Work
 ing Group:mailto:public-immersive-web-wg@w3.org
LOCATION:Teleconference
RECURRENCE-ID;TZID=America/Los_Angeles:20240903T120000
END:VEVENT
END:VCALENDAR
