BEGIN:VCALENDAR
VERSION:2.0
PRODID:-//Sabre//Sabre VObject 4.5.8//EN
CALSCALE:GREGORIAN
LAST-MODIFIED:20230116T113328Z
BEGIN:VTIMEZONE
TZID:Europe/Vienna
BEGIN:DAYLIGHT
DTSTART:20220327T010000
TZOFFSETFROM:+0100
TZOFFSETTO:+0200
TZNAME:CEST
END:DAYLIGHT
BEGIN:DAYLIGHT
DTSTART:20230326T010000
TZOFFSETFROM:+0100
TZOFFSETTO:+0200
TZNAME:CEST
END:DAYLIGHT
BEGIN:STANDARD
DTSTART:20221030T010000
TZOFFSETFROM:+0200
TZOFFSETTO:+0100
TZNAME:CET
END:STANDARD
END:VTIMEZONE
BEGIN:VEVENT
UID:581fb1b9-1936-430d-be0a-55f43cc92b55
DTSTAMP:20230116T113328Z
SUMMARY:ConsentCG Meeting 25 January 2023
DTSTART;TZID=Europe/Vienna:20230125T170000
DTEND;TZID=Europe/Vienna:20230125T190000
DESCRIPTION:https://www.w3.org/events/meetings/581fb1b9-1936-430d-be0a-55f4
 3cc92b55/\n\n- Update on the new policies of the CG\n- Update on the curre
 nt initiatives\n- Presentation and discussion on ADPC\n- Presentation and 
 discussion on Consent Receipts + ADPC
STATUS:CONFIRMED
CREATED:20230116T113327Z
LAST-MODIFIED:20230116T113328Z
SEQUENCE:0
ORGANIZER;CN=W3C Calendar;PARTSTAT=ACCEPTED;ROLE=NON-PARTICIPANT:mailto:nor
 eply@w3.org
ATTENDEE;CUTYPE=GROUP;ROLE=OPT-PARTICIPANT;RSVP=FALSE;CN=Consent Community 
 Group:mailto:public-consent@w3.org
LOCATION:Virtual / Zoom
END:VEVENT
END:VCALENDAR
