BEGIN:VCALENDAR
VERSION:2.0
PRODID:-//Sabre//Sabre VObject 4.5.8//EN
CALSCALE:GREGORIAN
LAST-MODIFIED:20240925T155347Z
BEGIN:VTIMEZONE
TZID:America/Los_Angeles
X-MICROSOFT-CDO-TZID:13
BEGIN:STANDARD
DTSTART:20231105T090000
TZOFFSETFROM:-0700
TZOFFSETTO:-0800
TZNAME:PST
END:STANDARD
BEGIN:STANDARD
DTSTART:20241103T090000
TZOFFSETFROM:-0700
TZOFFSETTO:-0800
TZNAME:PST
END:STANDARD
BEGIN:DAYLIGHT
DTSTART:20240310T100000
TZOFFSETFROM:-0800
TZOFFSETTO:-0700
TZNAME:PDT
END:DAYLIGHT
END:VTIMEZONE
BEGIN:VEVENT
UID:57789807-76fd-4d76-a1f9-e434efa7a4a9
DTSTAMP:20240925T155347Z
SUMMARY:Internationalization Working Group
DTSTART;TZID=America/Los_Angeles:20240927T090000
DTEND;TZID=America/Los_Angeles:20240927T123000
DESCRIPTION:https://www.w3.org/events/meetings/57789807-76fd-4d76-a1f9-e434
 efa7a4a9/\n\nThis is a Working Group meeting during TPAC 2024.\n\nAgenda\n
 \n**Topic: Info Share**\n_What interesting hallway conversations were had?
  What did we learn? What needs doing? Is everyone having an excellent time
 ?_\n\n**Topic: Glossary Publication at Note**\n_Addison discussed the stat
 us of i18n-glossary and different ways to make it work better with PLH. We
  need to publish it as a Note (note Draft Note) and then make changes to t
 he tools warnings. Let's discuss._\n\n**Topic: Advancing LTLI**\n_Addison 
 would like to discuss advancing LTLI towards Note and the existing issue t
 o fold its requirements to specdev._\n\n**Topic: PR and Issue Review**\n_L
 et's review some outstanding PRs and merge them or discuss issues._\n* htt
 ps://github.com/w3c/bp-i18n-specdev/pull/136\n* https://github.com/w3c/bp-
 i18n-specdev/pull/133\n* https://github.com/w3c/i18n-glossary/pull/77\n* h
 ttps://github.com/w3c/bp-i18n-specdev/issues/21\n\n\n**Topic: Preparing fo
 r WHATWG**\n_Let's discuss what we want to talk about. In Monday's meeting
  we talked about:_\n* Making `input` respect locale (which is quasi-in-the
 -spec\, but inconsistently implemented)\n* Fixing `<time>` and potentially
  having locale-aware presentational elements.\n* There seem to be a number
  of bidi issues\n* EAI\n* Review our [hotlist](https://github.com/w3c/i18n
 -activity/issues?q=is%3Aissue+is%3Aopen+label%3AAgenda%2BI18N%2BWHATWG) of
  WHATWG issues\n_Let's familiarize ourselves with these issues:_\n* https:
 //github.com/w3c/i18n-activity/issues/1819\n\n**Topic: Actions from Joint 
 Meetings**\n_Let's review_\n* Horizontal Review Breakout\n~~* Meeting with
  Payments. They'd like to revive (postal) address.~~\n* Meeting with CSS.\
 n* Meeting with WCAG/A11Y.\n\n\n---\n\n\n\n#### Chair's Link Farm\n* [I18N
 -ACTIONS](https://github.com/w3c/i18n-actions/issues)\n* [RADAR](https://g
 ithub.com/orgs/w3c/projects/91/views/1)\n* [Pending Issues](https://github
 .com/w3c/i18n-activity/issues?q=is%3Aissue+is%3Aopen+label%3Apending)
STATUS:CONFIRMED
CREATED:20240614T153921Z
LAST-MODIFIED:20240925T155347Z
SEQUENCE:10
ORGANIZER;CN=W3C Calendar;PARTSTAT=ACCEPTED;ROLE=NON-PARTICIPANT:mailto:nor
 eply@w3.org
ATTENDEE;CUTYPE=GROUP;ROLE=OPT-PARTICIPANT;RSVP=FALSE;CN=Internationalizati
 on Working Group:mailto:public-i18n-core@w3.org
LOCATION:4 Concourse Level - La Jolla
CATEGORIES:TPAC 2024,Group Meetings
END:VEVENT
END:VCALENDAR
