BEGIN:VCALENDAR
VERSION:2.0
PRODID:-//Sabre//Sabre VObject 4.5.8//EN
CALSCALE:GREGORIAN
LAST-MODIFIED:20250506T132935Z
BEGIN:VTIMEZONE
TZID:America/New_York
X-MICROSOFT-CDO-TZID:10
BEGIN:STANDARD
DTSTART:20241103T060000
TZOFFSETFROM:-0400
TZOFFSETTO:-0500
TZNAME:EST
END:STANDARD
BEGIN:STANDARD
DTSTART:20251102T060000
TZOFFSETFROM:-0400
TZOFFSETTO:-0500
TZNAME:EST
END:STANDARD
BEGIN:DAYLIGHT
DTSTART:20250309T070000
TZOFFSETFROM:-0500
TZOFFSETTO:-0400
TZNAME:EDT
END:DAYLIGHT
END:VTIMEZONE
BEGIN:VEVENT
UID:567c8a08-4866-4f53-bb21-cfe9d4f55afe
DTSTAMP:20250506T132935Z
SUMMARY:CCG — VC API
DTSTART;TZID=America/New_York:20250506T030000
DTEND;TZID=America/New_York:20250506T040000
DESCRIPTION:https://www.w3.org/events/meetings/567c8a08-4866-4f53-bb21-cfe9
 d4f55afe/\n\n
STATUS:CONFIRMED
CREATED:20250506T131019Z
LAST-MODIFIED:20250506T132935Z
SEQUENCE:2
ORGANIZER;CN=W3C Calendar;PARTSTAT=ACCEPTED;ROLE=NON-PARTICIPANT:mailto:nor
 eply@w3.org
ATTENDEE;CUTYPE=GROUP;ROLE=OPT-PARTICIPANT;RSVP=FALSE;CN=Credentials Commun
 ity Group:mailto:public-credentials@w3.org
RRULE:FREQ=WEEKLY;UNTIL=20250506T070000Z;INTERVAL=1;BYDAY=TU;WKST=MO
END:VEVENT
END:VCALENDAR
