BEGIN:VCALENDAR
VERSION:2.0
PRODID:-//Sabre//Sabre VObject 4.5.8//EN
CALSCALE:GREGORIAN
LAST-MODIFIED:20260219T063711Z
BEGIN:VTIMEZONE
TZID:Asia/Tokyo
X-MICROSOFT-CDO-TZID:20
BEGIN:STANDARD
DTSTART:20241117T021500
TZOFFSETFROM:+0900
TZOFFSETTO:+0900
TZNAME:JST
END:STANDARD
END:VTIMEZONE
BEGIN:VEVENT
UID:560c3a5b-494c-4364-b65e-d92e5805e70c
DTSTAMP:20260219T063711Z
SUMMARY:Low-level RTC Transport API
DTSTART;TZID=Asia/Tokyo:20251112T111500
DTEND;TZID=Asia/Tokyo:20251112T121500
DESCRIPTION:https://www.w3.org/events/meetings/560c3a5b-494c-4364-b65e-d92e
 5805e70c/\n\nThe [WebRTC APIs](https://www.w3.org/TR/webrtc/) have long en
 abled sending and receiving realtime media peer-to-peer with a streamlined
  control interface\, but with limited ability to tune how media is encoded
  and interacts with the network. While APIs such as [WebCodecs](https://w3
 c.github.io/webcodecs/) have begun to allow users low-level access to the 
 browser's built-in encoders and decoders\, there is still no API to allow 
 similar levels of access to the low-latency peer-to-peer network transport
 s like those used within an RTCPeerConnection.\n\nThe RtcTransport API aim
 s to enable applications to directly utilize peer-to-peer datagram based t
 ransport for realtime media\, controlling the details of congestion contro
 l and allowing arbitrary media encodings and formats. The current proposal
  is an evolution of the RTP-focussed transport discussed in a breakout ses
 sion at TPAC 2024.\n\n**Goal(s):**\nTo describe the goals of the RtcTransp
 ort API\, and to solicit feedback on developer needs and use cases.\n\nAge
 nda\n\n1. Introduction to the RtcTransport API\n2. Use cases\n3. Developer
  feedback\n\n**Materials:**\n- [Session proposal on GitHub](https://github
 .com/w3c/tpac2025-breakouts/issues/15)
STATUS:CONFIRMED
CREATED:20251028T073450Z
LAST-MODIFIED:20260219T063711Z
SEQUENCE:3
ORGANIZER;CN=W3C Calendar;PARTSTAT=ACCEPTED;ROLE=NON-PARTICIPANT:mailto:nor
 eply@w3.org
LOCATION:Floor 4 - 404
CATEGORIES:TPAC 2025,Breakout Sessions
END:VEVENT
END:VCALENDAR
