BEGIN:VCALENDAR
VERSION:2.0
PRODID:-//Sabre//Sabre VObject 4.5.8//EN
CALSCALE:GREGORIAN
LAST-MODIFIED:20240126T095131Z
BEGIN:VTIMEZONE
TZID:Etc/UTC
BEGIN:STANDARD
DTSTART:20230131T160000
TZOFFSETFROM:+0000
TZOFFSETTO:+0000
TZNAME:UTC
END:STANDARD
END:VTIMEZONE
BEGIN:VEVENT
UID:555e53d1-e1d8-452d-90bd-c866d6a0275a
DTSTAMP:20240126T095131Z
SUMMARY:WebView CG Meeting
DTSTART;TZID=Etc/UTC:20240126T160000
DTEND;TZID=Etc/UTC:20240126T170000
DESCRIPTION:https://www.w3.org/events/meetings/555e53d1-e1d8-452d-90bd-c866
 d6a0275a/\n\nRecurring CG meeting on a monthly basis.\n\nAgenda\n\n1. Welc
 ome & Introduction\n2. Discuss proposed changes to the charter in [Issue #
 12](https://github.com/WebView-CG/charter/issues/12) and [PR](https://gith
 ub.com/WebView-CG/charter/pull/13). In particular working on a **WebView c
 ompatibility report**\n3. Discuss if a survey can help us to identify area
 s to work on\n4. Revisit use cases and challenges\n\nYou can propose and v
 ote on topics in this discussion.\nhttps://github.com/orgs/WebView-CG/disc
 ussions/2
STATUS:CONFIRMED
CREATED:20240112T103627Z
LAST-MODIFIED:20240126T095131Z
SEQUENCE:0
ORGANIZER;CN=W3C Calendar;PARTSTAT=ACCEPTED;ROLE=NON-PARTICIPANT:mailto:nor
 eply@w3.org
ATTENDEE;CUTYPE=GROUP;ROLE=OPT-PARTICIPANT;RSVP=FALSE;CN=WebView Community 
 Group:mailto:public-webview@w3.org
END:VEVENT
END:VCALENDAR
