BEGIN:VCALENDAR
VERSION:2.0
PRODID:-//Sabre//Sabre VObject 4.5.8//EN
CALSCALE:GREGORIAN
LAST-MODIFIED:20220722T063812Z
BEGIN:VTIMEZONE
TZID:America/New_York
X-MICROSOFT-CDO-TZID:10
BEGIN:STANDARD
DTSTART:20211107T060000
TZOFFSETFROM:-0400
TZOFFSETTO:-0500
TZNAME:EST
END:STANDARD
BEGIN:STANDARD
DTSTART:20221106T060000
TZOFFSETFROM:-0400
TZOFFSETTO:-0500
TZNAME:EST
END:STANDARD
BEGIN:DAYLIGHT
DTSTART:20220313T070000
TZOFFSETFROM:-0500
TZOFFSETTO:-0400
TZNAME:EDT
END:DAYLIGHT
END:VTIMEZONE
BEGIN:VEVENT
UID:54fb3c39-8826-418b-bcac-46e112f08535
DTSTAMP:20220722T063812Z
SUMMARY:SDW WG plenary telcon
DTSTART;TZID=America/New_York:20220721T100000
DTEND;TZID=America/New_York:20220721T110000
DESCRIPTION:https://www.w3.org/events/meetings/54fb3c39-8826-418b-bcac-46e1
 12f08535/20220721T090000/\n\nOne hour later than usual\, to allow members 
 of the WoT WG to join.\n\nAgenda\n\n- Web of Things (WoT) geo use cases. M
 ichael McCool will present WoT geospatial use cases and examples to allow 
 us to do an assessment of which standards we think are applicable. Discuss
 ion will be offline via Github unless there's enough time in the meeting. 
 See [slides](https://github.com/w3c/wot/blob/main/PRESENTATIONS/2022-07-Wo
 T-SDW-McCool.pdf)\n- GeoSPARQL update by Nick Carr - timing and potential 
 scope of GeoSPARQL 1.2/2.0.\n- WebVMT update by Rob Smith - demo from the 
 Testbed-18 & Geo-alignment work.
STATUS:CONFIRMED
CREATED:20220713T151804Z
LAST-MODIFIED:20220722T063812Z
SEQUENCE:1
ORGANIZER;CN=W3C Calendar;PARTSTAT=ACCEPTED;ROLE=NON-PARTICIPANT:mailto:nor
 eply@w3.org
ATTENDEE;CUTYPE=GROUP;ROLE=OPT-PARTICIPANT;RSVP=FALSE;CN=Spatio-temporal Da
 ta on the Web Working Group:mailto:public-sdw-wg@w3.org
RECURRENCE-ID;TZID=America/New_York:20220721T090000
END:VEVENT
END:VCALENDAR
