BEGIN:VCALENDAR
VERSION:2.0
PRODID:-//Sabre//Sabre VObject 4.5.8//EN
CALSCALE:GREGORIAN
LAST-MODIFIED:20260219T070929Z
BEGIN:VTIMEZONE
TZID:Asia/Tokyo
X-MICROSOFT-CDO-TZID:20
BEGIN:STANDARD
DTSTART:20241116T233000
TZOFFSETFROM:+0900
TZOFFSETTO:+0900
TZNAME:JST
END:STANDARD
END:VTIMEZONE
BEGIN:VEVENT
UID:54f3b095-120d-4d22-ba9d-b67631c29ef0
DTSTAMP:20260219T070929Z
SUMMARY:Customizable select and combobox
DTSTART;TZID=Asia/Tokyo:20251112T083000
DTEND;TZID=Asia/Tokyo:20251112T093000
DESCRIPTION:https://www.w3.org/events/meetings/54f3b095-120d-4d22-ba9d-b676
 31c29ef0/\n\nThere are a number of followups for customizable select that 
 I'd like to gauge interest in and get feedback on:\n- https://github.com/w
 hatwg/html/issues/8189\n- https://github.com/whatwg/html/issues/11477\n- h
 ttps://github.com/whatwg/html/issues/11535\n\nThere are also other proposa
 ls related to having a text filter for a select element\, as well as makin
 g `<input type=text list=datalist>` more customizable:\n- https://github.c
 om/whatwg/html/issues/11288\n- https://github.com/openui/open-ui/issues/84
 7\n- https://open-ui.org/components/combobox.explainer/\n- https://github.
 com/openui/open-ui/issues/1273\n\n**Goal(s):**\nCollect feedback on propos
 als\, gauge interest in proposals\, and collect additional use cases for c
 ustomizable select and combobox\n\nAgenda\n\nI don't have a detailed agend
 a besides the github issues I linked above\, and I think this could be an 
 open-ended discussion.\n\n**Materials:**\n- [Session proposal on GitHub](h
 ttps://github.com/w3c/tpac2025-breakouts/issues/10)
STATUS:CONFIRMED
CREATED:20251028T073401Z
LAST-MODIFIED:20260219T070929Z
SEQUENCE:3
ORGANIZER;CN=W3C Calendar;PARTSTAT=ACCEPTED;ROLE=NON-PARTICIPANT:mailto:nor
 eply@w3.org
LOCATION:Floor 4 - 406
CATEGORIES:TPAC 2025,Breakout Sessions
END:VEVENT
END:VCALENDAR
